OziExplorer Map Data File Version 2.2
100k--o51-112.gif
100k--o51-112.gif
1 ,Map Code,
Pulkovo 1942 (2),WGS 84, 0.0000, 0.0000,WGS 84
Reserved 1
Reserved 2
Magnetic Variation,,,E
Map Projection,Transverse Mercator,PolyCal,No,AutoCalOnly,No,BSBUseWPX,No
Point01,xy, 104, 90,in, deg, 57, 0.0000,N, 121, 30.0000,E, grid, , , ,N
Point02,xy, 1302, 94,in, deg, 57, 0.0000,N, 121, 45.0000,E, grid, , , ,N
Point03,xy, 2502, 94,in, deg, 57, 0.0000,N, 122, 0.0000,E, grid, , , ,N
Point04,xy, 100, 1557,in, deg, 56, 50.0000,N, 121, 30.0000,E, grid, , , ,N
Point05,xy, 1302, 1559,in, deg, 56, 50.0000,N, 121, 45.0000,E, grid, , , ,N
Point06,xy, 2506, 1560,in, deg, 56, 50.0000,N, 122, 0.0000,E, grid, , , ,N
Point07,xy, 93, 3019,in, deg, 56, 40.0000,N, 121, 30.0000,E, grid, , , ,N
Point08,xy, 1300, 3022,in, deg, 56, 40.0000,N, 121, 45.0000,E, grid, , , ,N
Point09,xy, 2512, 3023,in, deg, 56, 40.0000,N, 122, 0.0000,E, grid, , , ,N
Point10,xy, , ,in, deg, , ,N, , ,W, grid, , , ,N
Point11,xy, , ,in, deg, , ,N, , ,W, grid, , , ,N
Point12,xy, , ,in, deg, , ,N, , ,W, grid, , , ,N
Point13,xy, , ,in, deg, , ,N, , ,W, grid, , , ,N
Point14,xy, , ,in, deg, , ,N, , ,W, grid, , , ,N
Point15,xy, , ,in, deg, , ,N, , ,W, grid, , , ,N
Point16,xy, , ,in, deg, , ,N, , ,W, grid, , , ,N
Point17,xy, , ,in, deg, , ,N, , ,W, grid, , , ,N
Point18,xy, , ,in, deg, , ,N, , ,W, grid, , , ,N
Point19,xy, , ,in, deg, , ,N, , ,W, grid, , , ,N
Point20,xy, , ,in, deg, , ,N, , ,W, grid, , , ,N
Point21,xy, , ,in, deg, , ,N, , ,W, grid, , , ,N
Point22,xy, , ,in, deg, , ,N, , ,W, grid, , , ,N
Point23,xy, , ,in, deg, , ,N, , ,W, grid, , , ,N
Point24,xy, , ,in, deg, , ,N, , ,W, grid, , , ,N
Point25,xy, , ,in, deg, , ,N, , ,W, grid, , , ,N
Point26,xy, , ,in, deg, , ,N, , ,W, grid, , , ,N
Point27,xy, , ,in, deg, , ,N, , ,W, grid, , , ,N
Point28,xy, , ,in, deg, , ,N, , ,W, grid, , , ,N
Point29,xy, , ,in, deg, , ,N, , ,W, grid, , , ,N
Point30,xy, , ,in, deg, , ,N, , ,W, grid, , , ,N
Projection Setup, 0.000000000, 123.000000000, 1.000000000, 500000.00, 0.00,,,,,
Map Feature = MF ; Map Comment = MC These follow if they exist
Track File = TF These follow if they exist
Moving Map Parameters = MM? These follow if they exist
MM0,Yes
MMPNUM,4
MMPXY,1,83,100
MMPXY,2,2524,100
MMPXY,3,2524,3010
MMPXY,4,83,3010
MMPLL,1, 121.495554, 56.998920
MMPLL,2, 122.004727, 56.999352
MMPLL,3, 122.002694, 56.668137
MMPLL,4, 121.497996, 56.667725
MM1B,12.671148
MOP,Map Open Position,0,0
IWH,Map Image Width/Height,2607,3110
