OziExplorer Map Data File Version 2.2
100k--o51-099.gif
100k--o51-099.gif
1 ,Map Code,
Pulkovo 1942 (2),WGS 84, 0.0000, 0.0000,WGS 84
Reserved 1
Reserved 2
Magnetic Variation,,,E
Map Projection,Transverse Mercator,PolyCal,No,AutoCalOnly,No,BSBUseWPX,No
Point01,xy, 100, 96,in, deg, 57, 20.0000,N, 121, 0.0000,E, grid, , , ,N
Point02,xy, 1277, 98,in, deg, 57, 20.0000,N, 121, 15.0000,E, grid, , , ,N
Point03,xy, 2456, 93,in, deg, 57, 20.0000,N, 121, 30.0000,E, grid, , , ,N
Point04,xy, 94, 1547,in, deg, 57, 10.0000,N, 121, 0.0000,E, grid, , , ,N
Point05,xy, 1277, 1546,in, deg, 57, 10.0000,N, 121, 15.0000,E, grid, , , ,N
Point06,xy, 2461, 1543,in, deg, 57, 10.0000,N, 121, 30.0000,E, grid, , , ,N
Point07,xy, 87, 2997,in, deg, 57, 0.0000,N, 121, 0.0000,E, grid, , , ,N
Point08,xy, 1277, 2997,ex, deg, 57, 0.0000,N, 121, 15.0000,E, grid, , , ,N
Point09,xy, 2469, 2994,in, deg, 57, 0.0000,N, 121, 30.0000,E, grid, , , ,N
Point10,xy, , ,in, deg, , ,N, , ,W, grid, , , ,N
Point11,xy, , ,in, deg, , ,N, , ,W, grid, , , ,N
Point12,xy, , ,in, deg, , ,N, , ,W, grid, , , ,N
Point13,xy, , ,in, deg, , ,N, , ,W, grid, , , ,N
Point14,xy, , ,in, deg, , ,N, , ,W, grid, , , ,N
Point15,xy, , ,in, deg, , ,N, , ,W, grid, , , ,N
Point16,xy, , ,in, deg, , ,N, , ,W, grid, , , ,N
Point17,xy, , ,in, deg, , ,N, , ,W, grid, , , ,N
Point18,xy, , ,in, deg, , ,N, , ,W, grid, , , ,N
Point19,xy, , ,in, deg, , ,N, , ,W, grid, , , ,N
Point20,xy, , ,in, deg, , ,N, , ,W, grid, , , ,N
Point21,xy, , ,in, deg, , ,N, , ,W, grid, , , ,N
Point22,xy, , ,in, deg, , ,N, , ,W, grid, , , ,N
Point23,xy, , ,in, deg, , ,N, , ,W, grid, , , ,N
Point24,xy, , ,in, deg, , ,N, , ,W, grid, , , ,N
Point25,xy, , ,in, deg, , ,N, , ,W, grid, , , ,N
Point26,xy, , ,in, deg, , ,N, , ,W, grid, , , ,N
Point27,xy, , ,in, deg, , ,N, , ,W, grid, , , ,N
Point28,xy, , ,in, deg, , ,N, , ,W, grid, , , ,N
Point29,xy, , ,in, deg, , ,N, , ,W, grid, , , ,N
Point30,xy, , ,in, deg, , ,N, , ,W, grid, , , ,N
Projection Setup, 0.000000000, 123.000000000, 1.000000000, 500000.00, 0.00,,,,,
Map Feature = MF ; Map Comment = MC These follow if they exist
Track File = TF These follow if they exist
Moving Map Parameters = MM? These follow if they exist
MM0,Yes
MMPNUM,4
MMPXY,1,100,96
MMPXY,2,2456,93
MMPXY,3,2469,2994
MMPXY,4,87,2997
MMPLL,1, 121.000000, 57.333333
MMPLL,2, 121.500000, 57.333333
MMPLL,3, 121.500000, 57.000000
MMPLL,4, 121.000000, 57.000000
MM1B,11.958630
MOP,Map Open Position,0,0
IWH,Map Image Width/Height,2564,3094
