OziExplorer Map Data File Version 2.2
500k--o31-3.gif
500k--o31-3.gif
1 ,Map Code,
Pulkovo 1942 (2),WGS 84, 0.0000, 0.0000,WGS 84
Reserved 1
Reserved 2
Magnetic Variation,,,E
Map Projection,Transverse Mercator,PolyCal,No,AutoCalOnly,No,BSBUseWPX,No
Point01,xy, 158, 82,in, deg, 58, 0.0000,N, 0, 0.0000,E, grid, , , ,N
Point02,xy, 1539, 96,in, deg, 58, 0.0000,N, 1, 30.0000,E, grid, , , ,N
Point03,xy, 2924, 82,in, deg, 58, 0.0000,N, 3, 0.0000,E, grid, , , ,N
Point04,xy, 117, 1829,in, deg, 57, 0.0000,N, 0, 0.0000,E, grid, , , ,N
Point05,xy, 1537, 1848,in, deg, 57, 0.0000,N, 1, 30.0000,E, grid, , , ,N
Point06,xy, 2958, 1834,in, deg, 57, 0.0000,N, 3, 0.0000,E, grid, , , ,N
Point07,xy, 74, 3578,in, deg, 56, 0.0000,N, 0, 0.0000,E, grid, , , ,N
Point08,xy, 1534, 3601,in, deg, 56, 0.0000,N, 1, 30.0000,E, grid, , , ,N
Point09,xy, 2993, 3586,in, deg, 56, 0.0000,N, 3, 0.0000,E, grid, , , ,N
Point10,xy, , ,in, deg, , ,N, , ,W, grid, , , ,N
Point11,xy, , ,in, deg, , ,N, , ,W, grid, , , ,N
Point12,xy, , ,in, deg, , ,N, , ,W, grid, , , ,N
Point13,xy, , ,in, deg, , ,N, , ,W, grid, , , ,N
Point14,xy, , ,in, deg, , ,N, , ,W, grid, , , ,N
Point15,xy, , ,in, deg, , ,N, , ,W, grid, , , ,N
Point16,xy, , ,in, deg, , ,N, , ,W, grid, , , ,N
Point17,xy, , ,in, deg, , ,N, , ,W, grid, , , ,N
Point18,xy, , ,in, deg, , ,N, , ,W, grid, , , ,N
Point19,xy, , ,in, deg, , ,N, , ,W, grid, , , ,N
Point20,xy, , ,in, deg, , ,N, , ,W, grid, , , ,N
Point21,xy, , ,in, deg, , ,N, , ,W, grid, , , ,N
Point22,xy, , ,in, deg, , ,N, , ,W, grid, , , ,N
Point23,xy, , ,in, deg, , ,N, , ,W, grid, , , ,N
Point24,xy, , ,in, deg, , ,N, , ,W, grid, , , ,N
Point25,xy, , ,in, deg, , ,N, , ,W, grid, , , ,N
Point26,xy, , ,in, deg, , ,N, , ,W, grid, , , ,N
Point27,xy, , ,in, deg, , ,N, , ,W, grid, , , ,N
Point28,xy, , ,in, deg, , ,N, , ,W, grid, , , ,N
Point29,xy, , ,in, deg, , ,N, , ,W, grid, , , ,N
Point30,xy, , ,in, deg, , ,N, , ,W, grid, , , ,N
Projection Setup, 0.000000000, 3.000000000, 1.000000000, 500000.00, 0.00,,,,,
Map Feature = MF ; Map Comment = MC These follow if they exist
Track File = TF These follow if they exist
Moving Map Parameters = MM? These follow if they exist
MM0,Yes
MMPNUM,4
MMPXY,1,158,82
MMPXY,2,2924,82
MMPXY,3,2993,3586
MMPXY,4,74,3578
MMPLL,1, 0.000000, 58.000000
MMPLL,2, 3.000000, 58.000000
MMPLL,3, 3.000000, 56.000000
MMPLL,4, 0.000000, 56.000000
MM1B,60.162602
MOP,Map Open Position,0,0
IWH,Map Image Width/Height,3068,3690
