OziExplorer Map Data File Version 2.2
200k--n57-20.gif
200k--n57-20.gif
1 ,Map Code,
Pulkovo 1942 (2),WGS 84, 0.0000, 0.0000,WGS 84
Reserved 1
Reserved 2
Magnetic Variation,,,E
Map Projection,Transverse Mercator,PolyCal,No,AutoCalOnly,No,BSBUseWPX,No
Point01,xy, 89, 101,in, deg, 54, 0.0000,N, 157, 0.0000,E, grid, , , ,N
Point02,xy, 1368, 99,in, deg, 54, 0.0000,N, 157, 30.0000,E, grid, , , ,N
Point03,xy, 2648, 83,in, deg, 54, 0.0000,N, 158, 0.0000,E, grid, , , ,N
Point04,xy, 87, 1548,in, deg, 53, 40.0000,N, 157, 0.0000,E, grid, , , ,N
Point05,xy, 1377, 1545,in, deg, 53, 40.0000,N, 157, 30.0000,E, grid, , , ,N
Point06,xy, 2667, 1530,in, deg, 53, 40.0000,N, 158, 0.0000,E, grid, , , ,N
Point07,xy, 88, 2993,in, deg, 53, 20.0000,N, 157, 0.0000,E, grid, , , ,N
Point08,xy, 1385, 2991,in, deg, 53, 20.0000,N, 157, 30.0000,E, grid, , , ,N
Point09,xy, 2687, 2978,in, deg, 53, 20.0000,N, 158, 0.0000,E, grid, , , ,N
Point10,xy, , ,in, deg, , ,N, , ,W, grid, , , ,N
Point11,xy, , ,in, deg, , ,N, , ,W, grid, , , ,N
Point12,xy, , ,in, deg, , ,N, , ,W, grid, , , ,N
Point13,xy, , ,in, deg, , ,N, , ,W, grid, , , ,N
Point14,xy, , ,in, deg, , ,N, , ,W, grid, , , ,N
Point15,xy, , ,in, deg, , ,N, , ,W, grid, , , ,N
Point16,xy, , ,in, deg, , ,N, , ,W, grid, , , ,N
Point17,xy, , ,in, deg, , ,N, , ,W, grid, , , ,N
Point18,xy, , ,in, deg, , ,N, , ,W, grid, , , ,N
Point19,xy, , ,in, deg, , ,N, , ,W, grid, , , ,N
Point20,xy, , ,in, deg, , ,N, , ,W, grid, , , ,N
Point21,xy, , ,in, deg, , ,N, , ,W, grid, , , ,N
Point22,xy, , ,in, deg, , ,N, , ,W, grid, , , ,N
Point23,xy, , ,in, deg, , ,N, , ,W, grid, , , ,N
Point24,xy, , ,in, deg, , ,N, , ,W, grid, , , ,N
Point25,xy, , ,in, deg, , ,N, , ,W, grid, , , ,N
Point26,xy, , ,in, deg, , ,N, , ,W, grid, , , ,N
Point27,xy, , ,in, deg, , ,N, , ,W, grid, , , ,N
Point28,xy, , ,in, deg, , ,N, , ,W, grid, , , ,N
Point29,xy, , ,in, deg, , ,N, , ,W, grid, , , ,N
Point30,xy, , ,in, deg, , ,N, , ,W, grid, , , ,N
Projection Setup, 0.000000000, 159.000000000, 1.000000000, 500000.00, 0.00,,,,,
Map Feature = MF ; Map Comment = MC These follow if they exist
Track File = TF These follow if they exist
Moving Map Parameters = MM? These follow if they exist
MM0,Yes
MMPNUM,4
MMPXY,1,89,101
MMPXY,2,2648,83
MMPXY,3,2687,2978
MMPXY,4,88,2993
MMPLL,1, 157.000000, 54.000000
MMPLL,2, 158.000000, 54.000000
MMPLL,3, 158.000000, 53.333333
MMPLL,4, 157.000000, 53.333333
MM1B,23.994812
MOP,Map Open Position,0,0
IWH,Map Image Width/Height,2766,3084
