OziExplorer Map Data File Version 2.2
200k--n57-12.gif
200k--n57-12.gif
1 ,Map Code,
Pulkovo 1942 (2),WGS 84, 0.0000, 0.0000,WGS 84
Reserved 1
Reserved 2
Magnetic Variation,,,E
Map Projection,Transverse Mercator,PolyCal,No,AutoCalOnly,No,BSBUseWPX,No
Point01,xy, 102, 87,in, deg, 55, 20.0000,N, 161, 0.0000,E, grid, , , ,N
Point02,xy, 1338, 92,in, deg, 55, 20.0000,N, 161, 30.0000,E, grid, , , ,N
Point03,xy, 2575, 86,in, deg, 55, 20.0000,N, 162, 0.0000,E, grid, , , ,N
Point04,xy, 91, 1534,in, deg, 55, 0.0000,N, 161, 0.0000,E, grid, , , ,N
Point05,xy, 1338, 1538,in, deg, 55, 0.0000,N, 161, 30.0000,E, grid, , , ,N
Point06,xy, 2585, 1533,in, deg, 55, 0.0000,N, 162, 0.0000,E, grid, , , ,N
Point07,xy, 81, 2980,in, deg, 54, 40.0000,N, 161, 0.0000,E, grid, , , ,N
Point08,xy, 1338, 2985,in, deg, 54, 40.0000,N, 161, 30.0000,E, grid, , , ,N
Point09,xy, 2596, 2981,in, deg, 54, 40.0000,N, 162, 0.0000,E, grid, , , ,N
Point10,xy, , ,in, deg, , ,N, , ,W, grid, , , ,N
Point11,xy, , ,in, deg, , ,N, , ,W, grid, , , ,N
Point12,xy, , ,in, deg, , ,N, , ,W, grid, , , ,N
Point13,xy, , ,in, deg, , ,N, , ,W, grid, , , ,N
Point14,xy, , ,in, deg, , ,N, , ,W, grid, , , ,N
Point15,xy, , ,in, deg, , ,N, , ,W, grid, , , ,N
Point16,xy, , ,in, deg, , ,N, , ,W, grid, , , ,N
Point17,xy, , ,in, deg, , ,N, , ,W, grid, , , ,N
Point18,xy, , ,in, deg, , ,N, , ,W, grid, , , ,N
Point19,xy, , ,in, deg, , ,N, , ,W, grid, , , ,N
Point20,xy, , ,in, deg, , ,N, , ,W, grid, , , ,N
Point21,xy, , ,in, deg, , ,N, , ,W, grid, , , ,N
Point22,xy, , ,in, deg, , ,N, , ,W, grid, , , ,N
Point23,xy, , ,in, deg, , ,N, , ,W, grid, , , ,N
Point24,xy, , ,in, deg, , ,N, , ,W, grid, , , ,N
Point25,xy, , ,in, deg, , ,N, , ,W, grid, , , ,N
Point26,xy, , ,in, deg, , ,N, , ,W, grid, , , ,N
Point27,xy, , ,in, deg, , ,N, , ,W, grid, , , ,N
Point28,xy, , ,in, deg, , ,N, , ,W, grid, , , ,N
Point29,xy, , ,in, deg, , ,N, , ,W, grid, , , ,N
Point30,xy, , ,in, deg, , ,N, , ,W, grid, , , ,N
Projection Setup, 0.000000000, 159.000000000, 1.000000000, 500000.00, 0.00,,,,,
Map Feature = MF ; Map Comment = MC These follow if they exist
Track File = TF These follow if they exist
Moving Map Parameters = MM? These follow if they exist
MM0,Yes
MMPNUM,4
MMPXY,1,102,87
MMPXY,2,2575,86
MMPXY,3,2596,2981
MMPXY,4,81,2980
MMPLL,1, 161.000000, 55.333333
MMPLL,2, 162.000000, 55.333333
MMPLL,3, 162.000000, 54.666667
MMPLL,4, 161.000000, 54.666667
MM1B,24.072869
MOP,Map Open Position,0,0
IWH,Map Image Width/Height,2684,3074
