OziExplorer Map Data File Version 2.2
200k--n57-06.gif
200k--n57-06.gif
1 ,Map Code,
Pulkovo 1942 (2),WGS 84, 0.0000, 0.0000,WGS 84
Reserved 1
Reserved 2
Magnetic Variation,,,E
Map Projection,Transverse Mercator,PolyCal,No,AutoCalOnly,No,BSBUseWPX,No
Point01,xy, 102, 86,in, deg, 56, 0.0000,N, 161, 0.0000,E, grid, , , ,N
Point02,xy, 1319, 87,in, deg, 56, 0.0000,N, 161, 30.0000,E, grid, , , ,N
Point03,xy, 2538, 81,in, deg, 56, 0.0000,N, 162, 0.0000,E, grid, , , ,N
Point04,xy, 93, 1534,in, deg, 55, 40.0000,N, 161, 0.0000,E, grid, , , ,N
Point05,xy, 1319, 1536,in, deg, 55, 40.0000,N, 161, 30.0000,E, grid, , , ,N
Point06,xy, 2551, 1529,in, deg, 55, 40.0000,N, 162, 0.0000,E, grid, , , ,N
Point07,xy, 84, 2983,in, deg, 55, 20.0000,N, 161, 0.0000,E, grid, , , ,N
Point08,xy, 1322, 2984,in, deg, 55, 20.0000,N, 161, 30.0000,E, grid, , , ,N
Point09,xy, 2561, 2979,in, deg, 55, 20.0000,N, 162, 0.0000,E, grid, , , ,N
Point10,xy, , ,in, deg, , ,N, , ,W, grid, , , ,N
Point11,xy, , ,in, deg, , ,N, , ,W, grid, , , ,N
Point12,xy, , ,in, deg, , ,N, , ,W, grid, , , ,N
Point13,xy, , ,in, deg, , ,N, , ,W, grid, , , ,N
Point14,xy, , ,in, deg, , ,N, , ,W, grid, , , ,N
Point15,xy, , ,in, deg, , ,N, , ,W, grid, , , ,N
Point16,xy, , ,in, deg, , ,N, , ,W, grid, , , ,N
Point17,xy, , ,in, deg, , ,N, , ,W, grid, , , ,N
Point18,xy, , ,in, deg, , ,N, , ,W, grid, , , ,N
Point19,xy, , ,in, deg, , ,N, , ,W, grid, , , ,N
Point20,xy, , ,in, deg, , ,N, , ,W, grid, , , ,N
Point21,xy, , ,in, deg, , ,N, , ,W, grid, , , ,N
Point22,xy, , ,in, deg, , ,N, , ,W, grid, , , ,N
Point23,xy, , ,in, deg, , ,N, , ,W, grid, , , ,N
Point24,xy, , ,in, deg, , ,N, , ,W, grid, , , ,N
Point25,xy, , ,in, deg, , ,N, , ,W, grid, , , ,N
Point26,xy, , ,in, deg, , ,N, , ,W, grid, , , ,N
Point27,xy, , ,in, deg, , ,N, , ,W, grid, , , ,N
Point28,xy, , ,in, deg, , ,N, , ,W, grid, , , ,N
Point29,xy, , ,in, deg, , ,N, , ,W, grid, , , ,N
Point30,xy, , ,in, deg, , ,N, , ,W, grid, , , ,N
Projection Setup, 0.000000000, 159.000000000, 1.000000000, 500000.00, 0.00,,,,,
Map Feature = MF ; Map Comment = MC These follow if they exist
Track File = TF These follow if they exist
Moving Map Parameters = MM? These follow if they exist
MM0,Yes
MMPNUM,4
MMPXY,1,102,86
MMPXY,2,2538,81
MMPXY,3,2561,2979
MMPXY,4,84,2983
MMPLL,1, 161.000000, 56.000000
MMPLL,2, 162.000000, 56.000000
MMPLL,3, 162.000000, 55.333333
MMPLL,4, 161.000000, 55.333333
MM1B,24.072869
MOP,Map Open Position,0,0
IWH,Map Image Width/Height,2644,3074
