OziExplorer Map Data File Version 2.2
100k--n57-121.gif
100k--n57-121.gif
1 ,Map Code,
Pulkovo 1942 (2),WGS 84, 0.0000, 0.0000,WGS 84
Reserved 1
Reserved 2
Magnetic Variation,,,E
Map Projection,Transverse Mercator,PolyCal,No,AutoCalOnly,No,BSBUseWPX,No
Point01,xy, 97, 97,in, deg, 52, 40.0000,N, 156, 0.0000,E, grid, , , ,N
Point02,xy, 1428, 98,in, deg, 52, 40.0000,N, 156, 15.0000,E, grid, , , ,N
Point03,xy, 2760, 93,in, deg, 52, 40.0000,N, 156, 30.0000,E, grid, , , ,N
Point04,xy, 98, 1556,in, deg, 52, 30.0000,N, 156, 0.0000,E, grid, , , ,N
Point05,xy, 1434, 1557,in, deg, 52, 30.0000,N, 156, 15.0000,E, grid, , , ,N
Point06,xy, 2772, 1554,in, deg, 52, 30.0000,N, 156, 30.0000,E, grid, , , ,N
Point07,xy, 98, 3016,in, deg, 52, 20.0000,N, 156, 0.0000,E, grid, , , ,N
Point08,xy, 1440, 3017,in, deg, 52, 20.0000,N, 156, 15.0000,E, grid, , , ,N
Point09,xy, 2780, 3014,in, deg, 52, 20.0000,N, 156, 30.0000,E, grid, , , ,N
Point10,xy, , ,in, deg, , ,N, , ,W, grid, , , ,N
Point11,xy, , ,in, deg, , ,N, , ,W, grid, , , ,N
Point12,xy, , ,in, deg, , ,N, , ,W, grid, , , ,N
Point13,xy, , ,in, deg, , ,N, , ,W, grid, , , ,N
Point14,xy, , ,in, deg, , ,N, , ,W, grid, , , ,N
Point15,xy, , ,in, deg, , ,N, , ,W, grid, , , ,N
Point16,xy, , ,in, deg, , ,N, , ,W, grid, , , ,N
Point17,xy, , ,in, deg, , ,N, , ,W, grid, , , ,N
Point18,xy, , ,in, deg, , ,N, , ,W, grid, , , ,N
Point19,xy, , ,in, deg, , ,N, , ,W, grid, , , ,N
Point20,xy, , ,in, deg, , ,N, , ,W, grid, , , ,N
Point21,xy, , ,in, deg, , ,N, , ,W, grid, , , ,N
Point22,xy, , ,in, deg, , ,N, , ,W, grid, , , ,N
Point23,xy, , ,in, deg, , ,N, , ,W, grid, , , ,N
Point24,xy, , ,in, deg, , ,N, , ,W, grid, , , ,N
Point25,xy, , ,in, deg, , ,N, , ,W, grid, , , ,N
Point26,xy, , ,in, deg, , ,N, , ,W, grid, , , ,N
Point27,xy, , ,in, deg, , ,N, , ,W, grid, , , ,N
Point28,xy, , ,in, deg, , ,N, , ,W, grid, , , ,N
Point29,xy, , ,in, deg, , ,N, , ,W, grid, , , ,N
Point30,xy, , ,in, deg, , ,N, , ,W, grid, , , ,N
Projection Setup, 0.000000000, 159.000000000, 1.000000000, 500000.00, 0.00,,,,,
Map Feature = MF ; Map Comment = MC These follow if they exist
Track File = TF These follow if they exist
Moving Map Parameters = MM? These follow if they exist
MM0,Yes
MMPNUM,4
MMPXY,1,92,100
MMPXY,2,2785,100
MMPXY,3,2785,3011
MMPXY,4,92,3011
MMPLL,1, 155.999029, 52.666252
MMPLL,2, 156.504677, 52.665964
MMPLL,3, 156.500718, 52.333603
MMPLL,4, 155.998872, 52.333935
MM1B,12.693780
MOP,Map Open Position,0,0
IWH,Map Image Width/Height,2877,3111
