OziExplorer Map Data File Version 2.2
100k--n57-105.gif
100k--n57-105.gif
1 ,Map Code,
Pulkovo 1942 (2),WGS 84, 0.0000, 0.0000,WGS 84
Reserved 1
Reserved 2
Magnetic Variation,,,E
Map Projection,Transverse Mercator,PolyCal,No,AutoCalOnly,No,BSBUseWPX,No
Point01,xy, 98, 97,in, deg, 53, 20.0000,N, 160, 0.0000,E, grid, , , ,N
Point02,xy, 1408, 100,in, deg, 53, 20.0000,N, 160, 15.0000,E, grid, , , ,N
Point03,xy, 2720, 94,in, deg, 53, 20.0000,N, 160, 30.0000,E, grid, , , ,N
Point04,xy, 96, 1554,in, deg, 53, 10.0000,N, 160, 0.0000,E, grid, , , ,N
Point05,xy, 1411, 1556,in, deg, 53, 10.0000,N, 160, 15.0000,E, grid, , , ,N
Point06,xy, 2730, 1552,in, deg, 53, 10.0000,N, 160, 30.0000,E, grid, , , ,N
Point07,xy, 95, 3014,in, deg, 53, 0.0000,N, 160, 0.0000,E, grid, , , ,N
Point08,xy, 1418, 3016,in, deg, 53, 0.0000,N, 160, 15.0000,E, grid, , , ,N
Point09,xy, 2739, 3014,in, deg, 53, 0.0000,N, 160, 30.0000,E, grid, , , ,N
Point10,xy, , ,in, deg, , ,N, , ,W, grid, , , ,N
Point11,xy, , ,in, deg, , ,N, , ,W, grid, , , ,N
Point12,xy, , ,in, deg, , ,N, , ,W, grid, , , ,N
Point13,xy, , ,in, deg, , ,N, , ,W, grid, , , ,N
Point14,xy, , ,in, deg, , ,N, , ,W, grid, , , ,N
Point15,xy, , ,in, deg, , ,N, , ,W, grid, , , ,N
Point16,xy, , ,in, deg, , ,N, , ,W, grid, , , ,N
Point17,xy, , ,in, deg, , ,N, , ,W, grid, , , ,N
Point18,xy, , ,in, deg, , ,N, , ,W, grid, , , ,N
Point19,xy, , ,in, deg, , ,N, , ,W, grid, , , ,N
Point20,xy, , ,in, deg, , ,N, , ,W, grid, , , ,N
Point21,xy, , ,in, deg, , ,N, , ,W, grid, , , ,N
Point22,xy, , ,in, deg, , ,N, , ,W, grid, , , ,N
Point23,xy, , ,in, deg, , ,N, , ,W, grid, , , ,N
Point24,xy, , ,in, deg, , ,N, , ,W, grid, , , ,N
Point25,xy, , ,in, deg, , ,N, , ,W, grid, , , ,N
Point26,xy, , ,in, deg, , ,N, , ,W, grid, , , ,N
Point27,xy, , ,in, deg, , ,N, , ,W, grid, , , ,N
Point28,xy, , ,in, deg, , ,N, , ,W, grid, , , ,N
Point29,xy, , ,in, deg, , ,N, , ,W, grid, , , ,N
Point30,xy, , ,in, deg, , ,N, , ,W, grid, , , ,N
Projection Setup, 0.000000000, 159.000000000, 1.000000000, 500000.00, 0.00,,,,,
Map Feature = MF ; Map Comment = MC These follow if they exist
Track File = TF These follow if they exist
Moving Map Parameters = MM? These follow if they exist
MM0,Yes
MMPNUM,4
MMPXY,1,91,99
MMPXY,2,2739,99
MMPXY,3,2739,3005
MMPXY,4,91,3005
MMPLL,1, 159.998880, 53.333045
MMPLL,2, 160.503615, 53.332838
MMPLL,3, 160.500033, 53.000857
MMPLL,4, 159.999178, 53.001035
MM1B,12.692775
MOP,Map Open Position,0,0
IWH,Map Image Width/Height,2830,3104
