OziExplorer Map Data File Version 2.2
100k--n57-087--(1968).gif
100k--n57-087--(1968).gif
1 ,Map Code,
Pulkovo 1942 (2),WGS 84, 0.0000, 0.0000,WGS 84
Reserved 1
Reserved 2
Magnetic Variation,,,E
Map Projection,Transverse Mercator,PolyCal,No,AutoCalOnly,No,BSBUseWPX,No
Point01,xy, 93, 94,in, deg, 53, 40.0000,N, 157, 0.0000,E, grid, , , ,N
Point02,xy, 1391, 92,in, deg, 53, 40.0000,N, 157, 15.0000,E, grid, , , ,N
Point03,xy, 2690, 87,in, deg, 53, 40.0000,N, 157, 30.0000,E, grid, , , ,N
Point04,xy, 94, 1554,in, deg, 53, 30.0000,N, 157, 0.0000,E, grid, , , ,N
Point05,xy, 1399, 1551,in, deg, 53, 30.0000,N, 157, 15.0000,E, grid, , , ,N
Point06,xy, 2703, 1544,in, deg, 53, 30.0000,N, 157, 30.0000,E, grid, , , ,N
Point07,xy, 94, 3014,in, deg, 53, 20.0000,N, 157, 0.0000,E, grid, , , ,N
Point08,xy, 1405, 3012,in, deg, 53, 20.0000,N, 157, 15.0000,E, grid, , , ,N
Point09,xy, 2716, 3005,in, deg, 53, 20.0000,N, 157, 30.0000,E, grid, , , ,N
Point10,xy, , ,in, deg, , ,N, , ,W, grid, , , ,N
Point11,xy, , ,in, deg, , ,N, , ,W, grid, , , ,N
Point12,xy, , ,in, deg, , ,N, , ,W, grid, , , ,N
Point13,xy, , ,in, deg, , ,N, , ,W, grid, , , ,N
Point14,xy, , ,in, deg, , ,N, , ,W, grid, , , ,N
Point15,xy, , ,in, deg, , ,N, , ,W, grid, , , ,N
Point16,xy, , ,in, deg, , ,N, , ,W, grid, , , ,N
Point17,xy, , ,in, deg, , ,N, , ,W, grid, , , ,N
Point18,xy, , ,in, deg, , ,N, , ,W, grid, , , ,N
Point19,xy, , ,in, deg, , ,N, , ,W, grid, , , ,N
Point20,xy, , ,in, deg, , ,N, , ,W, grid, , , ,N
Point21,xy, , ,in, deg, , ,N, , ,W, grid, , , ,N
Point22,xy, , ,in, deg, , ,N, , ,W, grid, , , ,N
Point23,xy, , ,in, deg, , ,N, , ,W, grid, , , ,N
Point24,xy, , ,in, deg, , ,N, , ,W, grid, , , ,N
Point25,xy, , ,in, deg, , ,N, , ,W, grid, , , ,N
Point26,xy, , ,in, deg, , ,N, , ,W, grid, , , ,N
Point27,xy, , ,in, deg, , ,N, , ,W, grid, , , ,N
Point28,xy, , ,in, deg, , ,N, , ,W, grid, , , ,N
Point29,xy, , ,in, deg, , ,N, , ,W, grid, , , ,N
Point30,xy, , ,in, deg, , ,N, , ,W, grid, , , ,N
Projection Setup, 0.000000000, 159.000000000, 1.000000000, 500000.00, 0.00,,,,,
Map Feature = MF ; Map Comment = MC These follow if they exist
Track File = TF These follow if they exist
Moving Map Parameters = MM? These follow if they exist
MM0,Yes
MMPNUM,4
MMPXY,1,90,99
MMPXY,2,2709,99
MMPXY,3,2709,3005
MMPXY,4,90,3005
MMPLL,1, 156.999624, 53.666113
MMPLL,2, 157.503432, 53.665128
MMPLL,3, 157.498864, 53.333316
MMPLL,4, 156.998975, 53.334321
MM1B,12.707795
MOP,Map Open Position,0,0
IWH,Map Image Width/Height,2799,3104
