OziExplorer Map Data File Version 2.2
100k--n57-065--(1948).gif
100k--n57-065--(1948).gif
1 ,Map Code,
Pulkovo 1942 (2),WGS 84, 0.0000, 0.0000,WGS 84
Reserved 1
Reserved 2
Magnetic Variation,,,E
Map Projection,Transverse Mercator,PolyCal,No,AutoCalOnly,No,BSBUseWPX,No
Point01,xy, 92, 84,in, deg, 54, 20.0000,N, 158, 0.0000,E, grid, , , ,N
Point02,xy, 1371, 86,ex, deg, 54, 20.0000,N, 158, 15.0000,E, grid, , , ,N
Point03,xy, 2644, 86,in, deg, 54, 20.0000,N, 158, 30.0000,E, grid, , , ,N
Point04,xy, 87, 1542,ex, deg, 54, 10.0000,N, 158, 0.0000,E, grid, , , ,N
Point05,xy, 1346, 1526,ex, deg, 54, 10.0000,N, 158, 15.0000,E, grid, , , ,N
Point06,xy, 2652, 1532,ex, deg, 54, 10.0000,N, 158, 30.0000,E, grid, , , ,N
Point07,xy, 86, 2996,in, deg, 54, 0.0000,N, 158, 0.0000,E, grid, , , ,N
Point08,xy, 1376, 2998,ex, deg, 54, 0.0000,N, 158, 15.0000,E, grid, , , ,N
Point09,xy, 2660, 2995,in, deg, 54, 0.0000,N, 158, 30.0000,E, grid, , , ,N
Point10,xy, , ,in, deg, , ,N, , ,W, grid, , , ,N
Point11,xy, , ,in, deg, , ,N, , ,W, grid, , , ,N
Point12,xy, , ,in, deg, , ,N, , ,W, grid, , , ,N
Point13,xy, , ,in, deg, , ,N, , ,W, grid, , , ,N
Point14,xy, , ,in, deg, , ,N, , ,W, grid, , , ,N
Point15,xy, , ,in, deg, , ,N, , ,W, grid, , , ,N
Point16,xy, , ,in, deg, , ,N, , ,W, grid, , , ,N
Point17,xy, , ,in, deg, , ,N, , ,W, grid, , , ,N
Point18,xy, , ,in, deg, , ,N, , ,W, grid, , , ,N
Point19,xy, , ,in, deg, , ,N, , ,W, grid, , , ,N
Point20,xy, , ,in, deg, , ,N, , ,W, grid, , , ,N
Point21,xy, , ,in, deg, , ,N, , ,W, grid, , , ,N
Point22,xy, , ,in, deg, , ,N, , ,W, grid, , , ,N
Point23,xy, , ,in, deg, , ,N, , ,W, grid, , , ,N
Point24,xy, , ,in, deg, , ,N, , ,W, grid, , , ,N
Point25,xy, , ,in, deg, , ,N, , ,W, grid, , , ,N
Point26,xy, , ,in, deg, , ,N, , ,W, grid, , , ,N
Point27,xy, , ,in, deg, , ,N, , ,W, grid, , , ,N
Point28,xy, , ,in, deg, , ,N, , ,W, grid, , , ,N
Point29,xy, , ,in, deg, , ,N, , ,W, grid, , , ,N
Point30,xy, , ,in, deg, , ,N, , ,W, grid, , , ,N
Projection Setup, 0.000000000, 159.000000000, 1.000000000, 500000.00, 0.00,,,,,
Map Feature = MF ; Map Comment = MC These follow if they exist
Track File = TF These follow if they exist
Moving Map Parameters = MM? These follow if they exist
MM0,Yes
MMPNUM,4
MMPXY,1,88,99
MMPXY,2,2652,99
MMPXY,3,2652,2989
MMPXY,4,88,2989
MMPLL,1, 157.999290, 54.331697
MMPLL,2, 158.501484, 54.331759
MMPLL,3, 158.498520, 54.000773
MMPLL,4, 158.000319, 54.000720
MM1B,12.736344
MOP,Map Open Position,0,0
IWH,Map Image Width/Height,2740,3088
