OziExplorer Map Data File Version 2.2
100k--n57-056.gif
100k--n57-056.gif
1 ,Map Code,
Pulkovo 1942 (2),WGS 84, 0.0000, 0.0000,WGS 84
Reserved 1
Reserved 2
Magnetic Variation,,,E
Map Projection,Transverse Mercator,PolyCal,No,AutoCalOnly,No,BSBUseWPX,No
Point01,xy, 96, 94,in, deg, 54, 40.0000,N, 159, 30.0000,E, grid, , , ,N
Point02,xy, 1356, 99,in, deg, 54, 40.0000,N, 159, 45.0000,E, grid, , , ,N
Point03,xy, 2619, 98,in, deg, 54, 40.0000,N, 160, 0.0000,E, grid, , , ,N
Point04,xy, 92, 1545,in, deg, 54, 30.0000,N, 159, 30.0000,E, grid, , , ,N
Point05,xy, 1358, 1548,in, deg, 54, 30.0000,N, 159, 45.0000,E, grid, , , ,N
Point06,xy, 2625, 1547,in, deg, 54, 30.0000,N, 160, 0.0000,E, grid, , , ,N
Point07,xy, 87, 2995,in, deg, 54, 20.0000,N, 159, 30.0000,E, grid, , , ,N
Point08,xy, 1357, 2999,in, deg, 54, 20.0000,N, 159, 45.0000,E, grid, , , ,N
Point09,xy, 2632, 2998,in, deg, 54, 20.0000,N, 160, 0.0000,E, grid, , , ,N
Point10,xy, , ,in, deg, , ,N, , ,W, grid, , , ,N
Point11,xy, , ,in, deg, , ,N, , ,W, grid, , , ,N
Point12,xy, , ,in, deg, , ,N, , ,W, grid, , , ,N
Point13,xy, , ,in, deg, , ,N, , ,W, grid, , , ,N
Point14,xy, , ,in, deg, , ,N, , ,W, grid, , , ,N
Point15,xy, , ,in, deg, , ,N, , ,W, grid, , , ,N
Point16,xy, , ,in, deg, , ,N, , ,W, grid, , , ,N
Point17,xy, , ,in, deg, , ,N, , ,W, grid, , , ,N
Point18,xy, , ,in, deg, , ,N, , ,W, grid, , , ,N
Point19,xy, , ,in, deg, , ,N, , ,W, grid, , , ,N
Point20,xy, , ,in, deg, , ,N, , ,W, grid, , , ,N
Point21,xy, , ,in, deg, , ,N, , ,W, grid, , , ,N
Point22,xy, , ,in, deg, , ,N, , ,W, grid, , , ,N
Point23,xy, , ,in, deg, , ,N, , ,W, grid, , , ,N
Point24,xy, , ,in, deg, , ,N, , ,W, grid, , , ,N
Point25,xy, , ,in, deg, , ,N, , ,W, grid, , , ,N
Point26,xy, , ,in, deg, , ,N, , ,W, grid, , , ,N
Point27,xy, , ,in, deg, , ,N, , ,W, grid, , , ,N
Point28,xy, , ,in, deg, , ,N, , ,W, grid, , , ,N
Point29,xy, , ,in, deg, , ,N, , ,W, grid, , , ,N
Point30,xy, , ,in, deg, , ,N, , ,W, grid, , , ,N
Projection Setup, 0.000000000, 159.000000000, 1.000000000, 500000.00, 0.00,,,,,
Map Feature = MF ; Map Comment = MC These follow if they exist
Track File = TF These follow if they exist
Moving Map Parameters = MM? These follow if they exist
MM0,Yes
MMPNUM,4
MMPXY,1,96,94
MMPXY,2,2619,98
MMPXY,3,2632,2998
MMPXY,4,87,2995
MMPLL,1, 159.500000, 54.666667
MMPLL,2, 160.000000, 54.666667
MMPLL,3, 160.000000, 54.333333
MMPLL,4, 159.500000, 54.333333
MM1B,12.001297
MOP,Map Open Position,0,0
IWH,Map Image Width/Height,2716,3083
