OziExplorer Map Data File Version 2.2
100k--n57-018--(1971).gif
100k--n57-018--(1971).gif
1 ,Map Code,
Pulkovo 1942 (2),WGS 84, 0.0000, 0.0000,WGS 84
Reserved 1
Reserved 2
Magnetic Variation,,,E
Map Projection,Transverse Mercator,PolyCal,No,AutoCalOnly,No,BSBUseWPX,No
Point01,xy, 100, 85,in, deg, 55, 40.0000,N, 158, 30.0000,E, grid, , , ,N
Point02,xy, 1337, 88,in, deg, 55, 40.0000,N, 158, 45.0000,E, grid, , , ,N
Point03,xy, 2574, 86,in, deg, 55, 40.0000,N, 159, 0.0000,E, grid, , , ,N
Point04,xy, 92, 1547,in, deg, 55, 30.0000,N, 158, 30.0000,E, grid, , , ,N
Point05,xy, 1336, 1544,in, deg, 55, 30.0000,N, 158, 45.0000,E, grid, , , ,N
Point06,xy, 2577, 1546,in, deg, 55, 30.0000,N, 159, 0.0000,E, grid, , , ,N
Point07,xy, 84, 3004,in, deg, 55, 20.0000,N, 158, 30.0000,E, grid, , , ,N
Point08,xy, 1334, 3008,in, deg, 55, 20.0000,N, 158, 45.0000,E, grid, , , ,N
Point09,xy, 2580, 3006,in, deg, 55, 20.0000,N, 159, 0.0000,E, grid, , , ,N
Point10,xy, , ,in, deg, , ,N, , ,W, grid, , , ,N
Point11,xy, , ,in, deg, , ,N, , ,W, grid, , , ,N
Point12,xy, , ,in, deg, , ,N, , ,W, grid, , , ,N
Point13,xy, , ,in, deg, , ,N, , ,W, grid, , , ,N
Point14,xy, , ,in, deg, , ,N, , ,W, grid, , , ,N
Point15,xy, , ,in, deg, , ,N, , ,W, grid, , , ,N
Point16,xy, , ,in, deg, , ,N, , ,W, grid, , , ,N
Point17,xy, , ,in, deg, , ,N, , ,W, grid, , , ,N
Point18,xy, , ,in, deg, , ,N, , ,W, grid, , , ,N
Point19,xy, , ,in, deg, , ,N, , ,W, grid, , , ,N
Point20,xy, , ,in, deg, , ,N, , ,W, grid, , , ,N
Point21,xy, , ,in, deg, , ,N, , ,W, grid, , , ,N
Point22,xy, , ,in, deg, , ,N, , ,W, grid, , , ,N
Point23,xy, , ,in, deg, , ,N, , ,W, grid, , , ,N
Point24,xy, , ,in, deg, , ,N, , ,W, grid, , , ,N
Point25,xy, , ,in, deg, , ,N, , ,W, grid, , , ,N
Point26,xy, , ,in, deg, , ,N, , ,W, grid, , , ,N
Point27,xy, , ,in, deg, , ,N, , ,W, grid, , , ,N
Point28,xy, , ,in, deg, , ,N, , ,W, grid, , , ,N
Point29,xy, , ,in, deg, , ,N, , ,W, grid, , , ,N
Point30,xy, , ,in, deg, , ,N, , ,W, grid, , , ,N
Projection Setup, 0.000000000, 159.000000000, 1.000000000, 500000.00, 0.00,,,,,
Map Feature = MF ; Map Comment = MC These follow if they exist
Track File = TF These follow if they exist
Moving Map Parameters = MM? These follow if they exist
MM0,Yes
MMPNUM,4
MMPXY,1,86,99
MMPXY,2,2591,99
MMPXY,3,2591,2995
MMPXY,4,86,2995
MMPLL,1, 158.497225, 55.665071
MMPLL,2, 159.003367, 55.665149
MMPLL,3, 159.002114, 55.334517
MMPLL,4, 158.500195, 55.334447
MM1B,12.710501
MOP,Map Open Position,0,0
IWH,Map Image Width/Height,2677,3094
