OziExplorer Map Data File Version 2.2
100k--n57-013--(1972).gif
100k--n57-013--(1972).gif
1 ,Map Code,
Pulkovo 1942 (2),WGS 84, 0.0000, 0.0000,WGS 84
Reserved 1
Reserved 2
Magnetic Variation,,,E
Map Projection,Transverse Mercator,PolyCal,No,AutoCalOnly,No,BSBUseWPX,No
Point01,xy, 108, 94,in, deg, 55, 40.0000,N, 156, 0.0000,E, grid, , , ,N
Point02,xy, 1346, 100,in, deg, 55, 40.0000,N, 156, 15.0000,E, grid, , , ,N
Point03,xy, 2582, 98,in, deg, 55, 40.0000,N, 156, 30.0000,E, grid, , , ,N
Point04,xy, 100, 1552,in, deg, 55, 30.0000,N, 156, 0.0000,E, grid, , , ,N
Point05,xy, 1343, 1556,in, deg, 55, 30.0000,N, 156, 15.0000,E, grid, , , ,N
Point06,xy, 2584, 1553,in, deg, 55, 30.0000,N, 156, 30.0000,E, grid, , , ,N
Point07,xy, 92, 3010,in, deg, 55, 20.0000,N, 156, 0.0000,E, grid, , , ,N
Point08,xy, 1341, 3012,in, deg, 55, 20.0000,N, 156, 15.0000,E, grid, , , ,N
Point09,xy, 2589, 3012,in, deg, 55, 20.0000,N, 156, 30.0000,E, grid, , , ,N
Point10,xy, , ,in, deg, , ,N, , ,W, grid, , , ,N
Point11,xy, , ,in, deg, , ,N, , ,W, grid, , , ,N
Point12,xy, , ,in, deg, , ,N, , ,W, grid, , , ,N
Point13,xy, , ,in, deg, , ,N, , ,W, grid, , , ,N
Point14,xy, , ,in, deg, , ,N, , ,W, grid, , , ,N
Point15,xy, , ,in, deg, , ,N, , ,W, grid, , , ,N
Point16,xy, , ,in, deg, , ,N, , ,W, grid, , , ,N
Point17,xy, , ,in, deg, , ,N, , ,W, grid, , , ,N
Point18,xy, , ,in, deg, , ,N, , ,W, grid, , , ,N
Point19,xy, , ,in, deg, , ,N, , ,W, grid, , , ,N
Point20,xy, , ,in, deg, , ,N, , ,W, grid, , , ,N
Point21,xy, , ,in, deg, , ,N, , ,W, grid, , , ,N
Point22,xy, , ,in, deg, , ,N, , ,W, grid, , , ,N
Point23,xy, , ,in, deg, , ,N, , ,W, grid, , , ,N
Point24,xy, , ,in, deg, , ,N, , ,W, grid, , , ,N
Point25,xy, , ,in, deg, , ,N, , ,W, grid, , , ,N
Point26,xy, , ,in, deg, , ,N, , ,W, grid, , , ,N
Point27,xy, , ,in, deg, , ,N, , ,W, grid, , , ,N
Point28,xy, , ,in, deg, , ,N, , ,W, grid, , , ,N
Point29,xy, , ,in, deg, , ,N, , ,W, grid, , , ,N
Point30,xy, , ,in, deg, , ,N, , ,W, grid, , , ,N
Projection Setup, 0.000000000, 159.000000000, 1.000000000, 500000.00, 0.00,,,,,
Map Feature = MF ; Map Comment = MC These follow if they exist
Track File = TF These follow if they exist
Moving Map Parameters = MM? These follow if they exist
MM0,Yes
MMPNUM,4
MMPXY,1,86,99
MMPXY,2,2603,99
MMPXY,3,2603,3002
MMPXY,4,86,3002
MMPLL,1, 155.995586, 55.666209
MMPLL,2, 156.504169, 55.666503
MMPLL,3, 156.502969, 55.334408
MMPLL,4, 155.998650, 55.334164
MM1B,12.705738
MOP,Map Open Position,0,0
IWH,Map Image Width/Height,2689,3101
