OziExplorer Map Data File Version 2.2
500k--n50-3.gif
500k--n50-3.gif
1 ,Map Code,
Pulkovo 1942 (2),WGS 84, 0.0000, 0.0000,WGS 84
Reserved 1
Reserved 2
Magnetic Variation,,,E
Map Projection,Transverse Mercator,PolyCal,No,AutoCalOnly,No,BSBUseWPX,No
Point01,xy, 123, 91,in, deg, 54, 0.0000,N, 114, 0.0000,E, grid, , , ,N
Point02,xy, 1616, 117,ex, deg, 54, 0.0000,N, 115, 30.0000,E, grid, , , ,N
Point03,xy, 3188, 79,in, deg, 54, 0.0000,N, 117, 0.0000,E, grid, , , ,N
Point04,xy, 107, 1765,ex, deg, 53, 0.0000,N, 114, 0.0000,E, grid, , , ,N
Point05,xy, 1616, 1765,ex, deg, 53, 0.0000,N, 115, 30.0000,E, grid, , , ,N
Point06,xy, 3231, 1765,ex, deg, 53, 0.0000,N, 117, 0.0000,E, grid, , , ,N
Point07,xy, 61, 3574,in, deg, 52, 0.0000,N, 114, 0.0000,E, grid, , , ,N
Point08,xy, 1616, 3529,ex, deg, 52, 0.0000,N, 115, 30.0000,E, grid, , , ,N
Point09,xy, 3271, 3557,in, deg, 52, 0.0000,N, 117, 0.0000,E, grid, , , ,N
Point10,xy, , ,in, deg, , ,N, , ,W, grid, , , ,N
Point11,xy, , ,in, deg, , ,N, , ,W, grid, , , ,N
Point12,xy, , ,in, deg, , ,N, , ,W, grid, , , ,N
Point13,xy, , ,in, deg, , ,N, , ,W, grid, , , ,N
Point14,xy, , ,in, deg, , ,N, , ,W, grid, , , ,N
Point15,xy, , ,in, deg, , ,N, , ,W, grid, , , ,N
Point16,xy, , ,in, deg, , ,N, , ,W, grid, , , ,N
Point17,xy, , ,in, deg, , ,N, , ,W, grid, , , ,N
Point18,xy, , ,in, deg, , ,N, , ,W, grid, , , ,N
Point19,xy, , ,in, deg, , ,N, , ,W, grid, , , ,N
Point20,xy, , ,in, deg, , ,N, , ,W, grid, , , ,N
Point21,xy, , ,in, deg, , ,N, , ,W, grid, , , ,N
Point22,xy, , ,in, deg, , ,N, , ,W, grid, , , ,N
Point23,xy, , ,in, deg, , ,N, , ,W, grid, , , ,N
Point24,xy, , ,in, deg, , ,N, , ,W, grid, , , ,N
Point25,xy, , ,in, deg, , ,N, , ,W, grid, , , ,N
Point26,xy, , ,in, deg, , ,N, , ,W, grid, , , ,N
Point27,xy, , ,in, deg, , ,N, , ,W, grid, , , ,N
Point28,xy, , ,in, deg, , ,N, , ,W, grid, , , ,N
Point29,xy, , ,in, deg, , ,N, , ,W, grid, , , ,N
Point30,xy, , ,in, deg, , ,N, , ,W, grid, , , ,N
Projection Setup, 0.000000000, 117.000000000, 1.000000000, 500000.00, 0.00,,,,,
Map Feature = MF ; Map Comment = MC These follow if they exist
Track File = TF These follow if they exist
Moving Map Parameters = MM? These follow if they exist
MM0,Yes
MMPNUM,4
MMPXY,1,123,91
MMPXY,2,3188,79
MMPXY,3,3271,3557
MMPXY,4,61,3574
MMPLL,1, 114.000000, 54.000000
MMPLL,2, 117.000000, 54.000000
MMPLL,3, 117.000000, 52.000000
MMPLL,4, 114.000000, 52.000000
MM1B,60.888645
MOP,Map Open Position,0,0
IWH,Map Image Width/Height,3338,3646
