OziExplorer Map Data File Version 2.2
100k--n50-133.gif
100k--n50-133.gif
1 ,Map Code,
Pulkovo 1942 (2),WGS 84, 0.0000, 0.0000,WGS 84
Reserved 1
Reserved 2
Magnetic Variation,,,E
Map Projection,Transverse Mercator,PolyCal,No,AutoCalOnly,No,BSBUseWPX,No
Point01,xy, 100, 90,in, deg, 52, 20.0000,N, 114, 0.0000,E, grid, , , ,N
Point02,xy, 1441, 92,in, deg, 52, 20.0000,N, 114, 15.0000,E, grid, , , ,N
Point03,xy, 2783, 89,in, deg, 52, 20.0000,N, 114, 30.0000,E, grid, , , ,N
Point04,xy, 93, 1541,in, deg, 52, 10.0000,N, 114, 0.0000,E, grid, , , ,N
Point05,xy, 1440, 1541,in, deg, 52, 10.0000,N, 114, 15.0000,E, grid, , , ,N
Point06,xy, 2785, 1537,in, deg, 52, 10.0000,N, 114, 30.0000,E, grid, , , ,N
Point07,xy, 90, 2987,in, deg, 52, 0.0000,N, 114, 0.0000,E, grid, , , ,N
Point08,xy, 1437, 2987,in, deg, 52, 0.0000,N, 114, 15.0000,E, grid, , , ,N
Point09,xy, 2780, 2984,in, deg, 52, 0.0000,N, 114, 30.0000,E, grid, , , ,N
Point10,xy, , ,in, deg, , ,N, , ,W, grid, , , ,N
Point11,xy, , ,in, deg, , ,N, , ,W, grid, , , ,N
Point12,xy, , ,in, deg, , ,N, , ,W, grid, , , ,N
Point13,xy, , ,in, deg, , ,N, , ,W, grid, , , ,N
Point14,xy, , ,in, deg, , ,N, , ,W, grid, , , ,N
Point15,xy, , ,in, deg, , ,N, , ,W, grid, , , ,N
Point16,xy, , ,in, deg, , ,N, , ,W, grid, , , ,N
Point17,xy, , ,in, deg, , ,N, , ,W, grid, , , ,N
Point18,xy, , ,in, deg, , ,N, , ,W, grid, , , ,N
Point19,xy, , ,in, deg, , ,N, , ,W, grid, , , ,N
Point20,xy, , ,in, deg, , ,N, , ,W, grid, , , ,N
Point21,xy, , ,in, deg, , ,N, , ,W, grid, , , ,N
Point22,xy, , ,in, deg, , ,N, , ,W, grid, , , ,N
Point23,xy, , ,in, deg, , ,N, , ,W, grid, , , ,N
Point24,xy, , ,in, deg, , ,N, , ,W, grid, , , ,N
Point25,xy, , ,in, deg, , ,N, , ,W, grid, , , ,N
Point26,xy, , ,in, deg, , ,N, , ,W, grid, , , ,N
Point27,xy, , ,in, deg, , ,N, , ,W, grid, , , ,N
Point28,xy, , ,in, deg, , ,N, , ,W, grid, , , ,N
Point29,xy, , ,in, deg, , ,N, , ,W, grid, , , ,N
Point30,xy, , ,in, deg, , ,N, , ,W, grid, , , ,N
Projection Setup, 0.000000000, 117.000000000, 1.000000000, 500000.00, 0.00,,,,,
Map Feature = MF ; Map Comment = MC These follow if they exist
Track File = TF These follow if they exist
Moving Map Parameters = MM? These follow if they exist
MM0,Yes
MMPNUM,4
MMPXY,1,100,90
MMPXY,2,2783,89
MMPXY,3,2780,2984
MMPXY,4,90,2987
MMPLL,1, 114.000000, 52.333333
MMPLL,2, 114.500000, 52.333333
MMPLL,3, 114.500000, 52.000000
MMPLL,4, 114.000000, 52.000000
MM1B,12.044271
MOP,Map Open Position,0,0
IWH,Map Image Width/Height,2882,3072
