OziExplorer Map Data File Version 2.2
100k--n50-099.gif
100k--n50-099.gif
1 ,Map Code,
Pulkovo 1942 (2),WGS 84, 0.0000, 0.0000,WGS 84
Reserved 1
Reserved 2
Magnetic Variation,,,E
Map Projection,Transverse Mercator,PolyCal,No,AutoCalOnly,No,BSBUseWPX,No
Point01,xy, 99, 103,in, deg, 53, 20.0000,N, 115, 0.0000,E, grid, , , ,N
Point02,xy, 1397, 104,in, deg, 53, 20.0000,N, 115, 15.0000,E, grid, , , ,N
Point03,xy, 2694, 99,in, deg, 53, 20.0000,N, 115, 30.0000,E, grid, , , ,N
Point04,xy, 99, 1557,in, deg, 53, 10.0000,N, 115, 0.0000,E, grid, , , ,N
Point05,xy, 1401, 1554,in, deg, 53, 10.0000,N, 115, 15.0000,E, grid, , , ,N
Point06,xy, 2703, 1546,in, deg, 53, 10.0000,N, 115, 30.0000,E, grid, , , ,N
Point07,xy, 101, 3006,in, deg, 53, 0.0000,N, 115, 0.0000,E, grid, , , ,N
Point08,xy, 1408, 2999,in, deg, 53, 0.0000,N, 115, 15.0000,E, grid, , , ,N
Point09,xy, 2714, 2986,in, deg, 53, 0.0000,N, 115, 30.0000,E, grid, , , ,N
Point10,xy, , ,in, deg, , ,N, , ,W, grid, , , ,N
Point11,xy, , ,in, deg, , ,N, , ,W, grid, , , ,N
Point12,xy, , ,in, deg, , ,N, , ,W, grid, , , ,N
Point13,xy, , ,in, deg, , ,N, , ,W, grid, , , ,N
Point14,xy, , ,in, deg, , ,N, , ,W, grid, , , ,N
Point15,xy, , ,in, deg, , ,N, , ,W, grid, , , ,N
Point16,xy, , ,in, deg, , ,N, , ,W, grid, , , ,N
Point17,xy, , ,in, deg, , ,N, , ,W, grid, , , ,N
Point18,xy, , ,in, deg, , ,N, , ,W, grid, , , ,N
Point19,xy, , ,in, deg, , ,N, , ,W, grid, , , ,N
Point20,xy, , ,in, deg, , ,N, , ,W, grid, , , ,N
Point21,xy, , ,in, deg, , ,N, , ,W, grid, , , ,N
Point22,xy, , ,in, deg, , ,N, , ,W, grid, , , ,N
Point23,xy, , ,in, deg, , ,N, , ,W, grid, , , ,N
Point24,xy, , ,in, deg, , ,N, , ,W, grid, , , ,N
Point25,xy, , ,in, deg, , ,N, , ,W, grid, , , ,N
Point26,xy, , ,in, deg, , ,N, , ,W, grid, , , ,N
Point27,xy, , ,in, deg, , ,N, , ,W, grid, , , ,N
Point28,xy, , ,in, deg, , ,N, , ,W, grid, , , ,N
Point29,xy, , ,in, deg, , ,N, , ,W, grid, , , ,N
Point30,xy, , ,in, deg, , ,N, , ,W, grid, , , ,N
Projection Setup, 0.000000000, 117.000000000, 1.000000000, 500000.00, 0.00,,,,,
Map Feature = MF ; Map Comment = MC These follow if they exist
Track File = TF These follow if they exist
Moving Map Parameters = MM? These follow if they exist
MM0,Yes
MMPNUM,4
MMPXY,1,99,103
MMPXY,2,2694,99
MMPXY,3,2714,2986
MMPXY,4,101,3006
MMPLL,1, 115.000000, 53.333333
MMPLL,2, 115.500000, 53.333333
MMPLL,3, 115.500000, 53.000000
MMPLL,4, 115.000000, 53.000000
MM1B,11.920103
MOP,Map Open Position,0,0
IWH,Map Image Width/Height,2803,3104
