OziExplorer Map Data File Version 2.2
100k--n50-003.gif
100k--n50-003.gif
1 ,Map Code,
Pulkovo 1942 (2),WGS 84, 0.0000, 0.0000,WGS 84
Reserved 1
Reserved 2
Magnetic Variation,,,E
Map Projection,Transverse Mercator,PolyCal,No,AutoCalOnly,No,BSBUseWPX,No
Point01,xy, 88, 80,in, deg, 56, 0.0000,N, 115, 0.0000,E, grid, , , ,N
Point02,xy, 1310, 84,in, deg, 56, 0.0000,N, 115, 15.0000,E, grid, , , ,N
Point03,xy, 2527, 83,in, deg, 56, 0.0000,N, 115, 30.0000,E, grid, , , ,N
Point04,xy, 90, 1518,in, deg, 55, 50.0000,N, 115, 0.0000,E, grid, , , ,N
Point05,xy, 1314, 1517,in, deg, 55, 50.0000,N, 115, 15.0000,E, grid, , , ,N
Point06,xy, 2534, 1511,in, deg, 55, 50.0000,N, 115, 30.0000,E, grid, , , ,N
Point07,xy, 90, 2961,in, deg, 55, 40.0000,N, 115, 0.0000,E, grid, , , ,N
Point08,xy, 1321, 2957,in, deg, 55, 40.0000,N, 115, 15.0000,E, grid, , , ,N
Point09,xy, 2550, 2954,in, deg, 55, 40.0000,N, 115, 30.0000,E, grid, , , ,N
Point10,xy, , ,in, deg, , ,N, , ,W, grid, , , ,N
Point11,xy, , ,in, deg, , ,N, , ,W, grid, , , ,N
Point12,xy, , ,in, deg, , ,N, , ,W, grid, , , ,N
Point13,xy, , ,in, deg, , ,N, , ,W, grid, , , ,N
Point14,xy, , ,in, deg, , ,N, , ,W, grid, , , ,N
Point15,xy, , ,in, deg, , ,N, , ,W, grid, , , ,N
Point16,xy, , ,in, deg, , ,N, , ,W, grid, , , ,N
Point17,xy, , ,in, deg, , ,N, , ,W, grid, , , ,N
Point18,xy, , ,in, deg, , ,N, , ,W, grid, , , ,N
Point19,xy, , ,in, deg, , ,N, , ,W, grid, , , ,N
Point20,xy, , ,in, deg, , ,N, , ,W, grid, , , ,N
Point21,xy, , ,in, deg, , ,N, , ,W, grid, , , ,N
Point22,xy, , ,in, deg, , ,N, , ,W, grid, , , ,N
Point23,xy, , ,in, deg, , ,N, , ,W, grid, , , ,N
Point24,xy, , ,in, deg, , ,N, , ,W, grid, , , ,N
Point25,xy, , ,in, deg, , ,N, , ,W, grid, , , ,N
Point26,xy, , ,in, deg, , ,N, , ,W, grid, , , ,N
Point27,xy, , ,in, deg, , ,N, , ,W, grid, , , ,N
Point28,xy, , ,in, deg, , ,N, , ,W, grid, , , ,N
Point29,xy, , ,in, deg, , ,N, , ,W, grid, , , ,N
Point30,xy, , ,in, deg, , ,N, , ,W, grid, , , ,N
Projection Setup, 0.000000000, 117.000000000, 1.000000000, 500000.00, 0.00,,,,,
Map Feature = MF ; Map Comment = MC These follow if they exist
Track File = TF These follow if they exist
Moving Map Parameters = MM? These follow if they exist
MM0,Yes
MMPNUM,4
MMPXY,1,88,80
MMPXY,2,2527,83
MMPXY,3,2550,2954
MMPXY,4,90,2961
MMPLL,1, 115.000000, 56.000000
MMPLL,2, 115.500000, 56.000000
MMPLL,3, 115.500000, 55.666667
MMPLL,4, 115.000000, 55.666667
MM1B,12.183075
MOP,Map Open Position,0,0
IWH,Map Image Width/Height,2640,3037
