OziExplorer Map Data File Version 2.2
100k--n42-118--(1974).gif
100k--n42-118--(1974).gif
1 ,Map Code,
Pulkovo 1942 (2),WGS 84, 0.0000, 0.0000,WGS 84
Reserved 1
Reserved 2
Magnetic Variation,,,E
Map Projection,Transverse Mercator,PolyCal,No,AutoCalOnly,No,BSBUseWPX,No
Point01,xy, 104, 90,in, deg, 53, 0.0000,N, 70, 30.0000,E, grid, , , ,N
Point02,xy, 1420, 94,in, deg, 53, 0.0000,N, 70, 45.0000,E, grid, , , ,N
Point03,xy, 2738, 95,in, deg, 53, 0.0000,N, 71, 0.0000,E, grid, , , ,N
Point04,xy, 94, 1563,in, deg, 52, 50.0000,N, 70, 30.0000,E, grid, , , ,N
Point05,xy, 1420, 1568,in, deg, 52, 50.0000,N, 70, 45.0000,E, grid, , , ,N
Point06,xy, 2744, 1567,in, deg, 52, 50.0000,N, 71, 0.0000,E, grid, , , ,N
Point07,xy, 90, 3033,in, deg, 52, 40.0000,N, 70, 30.0000,E, grid, , , ,N
Point08,xy, 1418, 3035,in, deg, 52, 40.0000,N, 70, 45.0000,E, grid, , , ,N
Point09,xy, 2747, 3035,in, deg, 52, 40.0000,N, 71, 0.0000,E, grid, , , ,N
Point10,xy, , ,in, deg, , ,N, , ,W, grid, , , ,N
Point11,xy, , ,in, deg, , ,N, , ,W, grid, , , ,N
Point12,xy, , ,in, deg, , ,N, , ,W, grid, , , ,N
Point13,xy, , ,in, deg, , ,N, , ,W, grid, , , ,N
Point14,xy, , ,in, deg, , ,N, , ,W, grid, , , ,N
Point15,xy, , ,in, deg, , ,N, , ,W, grid, , , ,N
Point16,xy, , ,in, deg, , ,N, , ,W, grid, , , ,N
Point17,xy, , ,in, deg, , ,N, , ,W, grid, , , ,N
Point18,xy, , ,in, deg, , ,N, , ,W, grid, , , ,N
Point19,xy, , ,in, deg, , ,N, , ,W, grid, , , ,N
Point20,xy, , ,in, deg, , ,N, , ,W, grid, , , ,N
Point21,xy, , ,in, deg, , ,N, , ,W, grid, , , ,N
Point22,xy, , ,in, deg, , ,N, , ,W, grid, , , ,N
Point23,xy, , ,in, deg, , ,N, , ,W, grid, , , ,N
Point24,xy, , ,in, deg, , ,N, , ,W, grid, , , ,N
Point25,xy, , ,in, deg, , ,N, , ,W, grid, , , ,N
Point26,xy, , ,in, deg, , ,N, , ,W, grid, , , ,N
Point27,xy, , ,in, deg, , ,N, , ,W, grid, , , ,N
Point28,xy, , ,in, deg, , ,N, , ,W, grid, , , ,N
Point29,xy, , ,in, deg, , ,N, , ,W, grid, , , ,N
Point30,xy, , ,in, deg, , ,N, , ,W, grid, , , ,N
Projection Setup, 0.000000000, 69.000000000, 1.000000000, 500000.00, 0.00,,,,,
Map Feature = MF ; Map Comment = MC These follow if they exist
Track File = TF These follow if they exist
Moving Map Parameters = MM? These follow if they exist
MM0,Yes
MMPNUM,4
MMPXY,1,91,100
MMPXY,2,2751,100
MMPXY,3,2751,3031
MMPXY,4,91,3031
MMPLL,1, 70.497888, 52.999002
MMPLL,2, 71.002265, 52.999402
MMPLL,3, 71.000785, 52.667259
MMPLL,4, 70.500242, 52.666828
MM1B,12.723557
MOP,Map Open Position,0,0
IWH,Map Image Width/Height,2842,3131
