OziExplorer Map Data File Version 2.2
100k--n42-104--(1974).gif
100k--n42-104--(1974).gif
1 ,Map Code,
Pulkovo 1942 (2),WGS 84, 0.0000, 0.0000,WGS 84
Reserved 1
Reserved 2
Magnetic Variation,,,E
Map Projection,Transverse Mercator,PolyCal,No,AutoCalOnly,No,BSBUseWPX,No
Point01,xy, 110, 104,in, deg, 53, 20.0000,N, 69, 30.0000,E, grid, , , ,N
Point02,xy, 1414, 108,in, deg, 53, 20.0000,N, 69, 45.0000,E, grid, , , ,N
Point03,xy, 2723, 108,in, deg, 53, 20.0000,N, 70, 0.0000,E, grid, , , ,N
Point04,xy, 103, 1576,in, deg, 53, 10.0000,N, 69, 30.0000,E, grid, , , ,N
Point05,xy, 1413, 1580,in, deg, 53, 10.0000,N, 69, 45.0000,E, grid, , , ,N
Point06,xy, 2728, 1578,in, deg, 53, 10.0000,N, 70, 0.0000,E, grid, , , ,N
Point07,xy, 96, 3046,in, deg, 53, 0.0000,N, 69, 30.0000,E, grid, , , ,N
Point08,xy, 1413, 3048,in, deg, 53, 0.0000,N, 69, 45.0000,E, grid, , , ,N
Point09,xy, 2732, 3046,in, deg, 53, 0.0000,N, 70, 0.0000,E, grid, , , ,N
Point10,xy, , ,in, deg, , ,N, , ,W, grid, , , ,N
Point11,xy, , ,in, deg, , ,N, , ,W, grid, , , ,N
Point12,xy, , ,in, deg, , ,N, , ,W, grid, , , ,N
Point13,xy, , ,in, deg, , ,N, , ,W, grid, , , ,N
Point14,xy, , ,in, deg, , ,N, , ,W, grid, , , ,N
Point15,xy, , ,in, deg, , ,N, , ,W, grid, , , ,N
Point16,xy, , ,in, deg, , ,N, , ,W, grid, , , ,N
Point17,xy, , ,in, deg, , ,N, , ,W, grid, , , ,N
Point18,xy, , ,in, deg, , ,N, , ,W, grid, , , ,N
Point19,xy, , ,in, deg, , ,N, , ,W, grid, , , ,N
Point20,xy, , ,in, deg, , ,N, , ,W, grid, , , ,N
Point21,xy, , ,in, deg, , ,N, , ,W, grid, , , ,N
Point22,xy, , ,in, deg, , ,N, , ,W, grid, , , ,N
Point23,xy, , ,in, deg, , ,N, , ,W, grid, , , ,N
Point24,xy, , ,in, deg, , ,N, , ,W, grid, , , ,N
Point25,xy, , ,in, deg, , ,N, , ,W, grid, , , ,N
Point26,xy, , ,in, deg, , ,N, , ,W, grid, , , ,N
Point27,xy, , ,in, deg, , ,N, , ,W, grid, , , ,N
Point28,xy, , ,in, deg, , ,N, , ,W, grid, , , ,N
Point29,xy, , ,in, deg, , ,N, , ,W, grid, , , ,N
Point30,xy, , ,in, deg, , ,N, , ,W, grid, , , ,N
Projection Setup, 0.000000000, 69.000000000, 1.000000000, 500000.00, 0.00,,,,,
Map Feature = MF ; Map Comment = MC These follow if they exist
Track File = TF These follow if they exist
Moving Map Parameters = MM? These follow if they exist
MM0,Yes
MMPNUM,4
MMPXY,1,90,101
MMPXY,2,2734,101
MMPXY,3,2734,3042
MMPXY,4,90,3042
MMPLL,1, 69.496474, 53.333820
MMPLL,2, 70.002123, 53.334044
MMPLL,3, 70.000556, 53.000607
MMPLL,4, 69.498812, 53.000371
MM1B,12.735000
MOP,Map Open Position,0,0
IWH,Map Image Width/Height,2824,3143
