OziExplorer Map Data File Version 2.2
100k--n42-091.gif
100k--n42-091.gif
1 ,Map Code,
Pulkovo 1942 (2),WGS 84, 0.0000, 0.0000,WGS 84
Reserved 1
Reserved 2
Magnetic Variation,,,E
Map Projection,Transverse Mercator,PolyCal,No,AutoCalOnly,No,BSBUseWPX,No
Point01,xy, 40, 29,in, deg, 53, 40.0000,N, 69, 0.0000,E, grid, , , ,N
Point02,xy, 1340, 30,in, deg, 53, 40.0000,N, 69, 15.0000,E, grid, , , ,N
Point03,xy, 2642, 30,in, deg, 53, 40.0000,N, 69, 30.0000,E, grid, , , ,N
Point04,xy, 32, 1484,in, deg, 53, 30.0000,N, 69, 0.0000,E, grid, , , ,N
Point05,xy, 1336, 1486,in, deg, 53, 30.0000,N, 69, 15.0000,E, grid, , , ,N
Point06,xy, 2642, 1488,in, deg, 53, 30.0000,N, 69, 30.0000,E, grid, , , ,N
Point07,xy, 23, 2942,in, deg, 53, 20.0000,N, 69, 0.0000,E, grid, , , ,N
Point08,xy, 1330, 2944,in, deg, 53, 20.0000,N, 69, 15.0000,E, grid, , , ,N
Point09,xy, 2645, 2948,in, deg, 53, 20.0000,N, 69, 30.0000,E, grid, , , ,N
Point10,xy, , ,in, deg, , ,N, , ,W, grid, , , ,N
Point11,xy, , ,in, deg, , ,N, , ,W, grid, , , ,N
Point12,xy, , ,in, deg, , ,N, , ,W, grid, , , ,N
Point13,xy, , ,in, deg, , ,N, , ,W, grid, , , ,N
Point14,xy, , ,in, deg, , ,N, , ,W, grid, , , ,N
Point15,xy, , ,in, deg, , ,N, , ,W, grid, , , ,N
Point16,xy, , ,in, deg, , ,N, , ,W, grid, , , ,N
Point17,xy, , ,in, deg, , ,N, , ,W, grid, , , ,N
Point18,xy, , ,in, deg, , ,N, , ,W, grid, , , ,N
Point19,xy, , ,in, deg, , ,N, , ,W, grid, , , ,N
Point20,xy, , ,in, deg, , ,N, , ,W, grid, , , ,N
Point21,xy, , ,in, deg, , ,N, , ,W, grid, , , ,N
Point22,xy, , ,in, deg, , ,N, , ,W, grid, , , ,N
Point23,xy, , ,in, deg, , ,N, , ,W, grid, , , ,N
Point24,xy, , ,in, deg, , ,N, , ,W, grid, , , ,N
Point25,xy, , ,in, deg, , ,N, , ,W, grid, , , ,N
Point26,xy, , ,in, deg, , ,N, , ,W, grid, , , ,N
Point27,xy, , ,in, deg, , ,N, , ,W, grid, , , ,N
Point28,xy, , ,in, deg, , ,N, , ,W, grid, , , ,N
Point29,xy, , ,in, deg, , ,N, , ,W, grid, , , ,N
Point30,xy, , ,in, deg, , ,N, , ,W, grid, , , ,N
Projection Setup, 0.000000000, 69.000000000, 1.000000000, 500000.00, 0.00,,,,,
Map Feature = MF ; Map Comment = MC These follow if they exist
Track File = TF These follow if they exist
Moving Map Parameters = MM? These follow if they exist
MM0,Yes
MMPNUM,4
MMPXY,1,86,95
MMPXY,2,2590,95
MMPXY,3,2590,2873
MMPXY,4,86,2873
MMPLL,1, 69.008899, 53.658881
MMPLL,2, 69.490148, 53.659284
MMPLL,3, 69.489814, 53.341620
MMPLL,4, 69.012149, 53.341219
MM1B,12.700908
MOP,Map Open Position,0,0
IWH,Map Image Width/Height,2676,2968
