OziExplorer Map Data File Version 2.2
100k--n42-080.gif
100k--n42-080.gif
1 ,Map Code,
Pulkovo 1942 (2),WGS 84, 0.0000, 0.0000,WGS 84
Reserved 1
Reserved 2
Magnetic Variation,,,E
Map Projection,Transverse Mercator,PolyCal,No,AutoCalOnly,No,BSBUseWPX,No
Point01,xy, 48, 24,in, deg, 54, 0.0000,N, 69, 30.0000,E, grid, , , ,N
Point02,xy, 1337, 31,in, deg, 54, 0.0000,N, 69, 45.0000,E, grid, , , ,N
Point03,xy, 2628, 34,in, deg, 54, 0.0000,N, 70, 0.0000,E, grid, , , ,N
Point04,xy, 36, 1488,in, deg, 53, 50.0000,N, 69, 30.0000,E, grid, , , ,N
Point05,xy, 1330, 1496,in, deg, 53, 50.0000,N, 69, 45.0000,E, grid, , , ,N
Point06,xy, 2625, 1498,in, deg, 53, 50.0000,N, 70, 0.0000,E, grid, , , ,N
Point07,xy, 23, 2950,in, deg, 53, 40.0000,N, 69, 30.0000,E, grid, , , ,N
Point08,xy, 1322, 2956,in, deg, 53, 40.0000,N, 69, 45.0000,E, grid, , , ,N
Point09,xy, 2624, 2962,in, deg, 53, 40.0000,N, 70, 0.0000,E, grid, , , ,N
Point10,xy, , ,in, deg, , ,N, , ,W, grid, , , ,N
Point11,xy, , ,in, deg, , ,N, , ,W, grid, , , ,N
Point12,xy, , ,in, deg, , ,N, , ,W, grid, , , ,N
Point13,xy, , ,in, deg, , ,N, , ,W, grid, , , ,N
Point14,xy, , ,in, deg, , ,N, , ,W, grid, , , ,N
Point15,xy, , ,in, deg, , ,N, , ,W, grid, , , ,N
Point16,xy, , ,in, deg, , ,N, , ,W, grid, , , ,N
Point17,xy, , ,in, deg, , ,N, , ,W, grid, , , ,N
Point18,xy, , ,in, deg, , ,N, , ,W, grid, , , ,N
Point19,xy, , ,in, deg, , ,N, , ,W, grid, , , ,N
Point20,xy, , ,in, deg, , ,N, , ,W, grid, , , ,N
Point21,xy, , ,in, deg, , ,N, , ,W, grid, , , ,N
Point22,xy, , ,in, deg, , ,N, , ,W, grid, , , ,N
Point23,xy, , ,in, deg, , ,N, , ,W, grid, , , ,N
Point24,xy, , ,in, deg, , ,N, , ,W, grid, , , ,N
Point25,xy, , ,in, deg, , ,N, , ,W, grid, , , ,N
Point26,xy, , ,in, deg, , ,N, , ,W, grid, , , ,N
Point27,xy, , ,in, deg, , ,N, , ,W, grid, , , ,N
Point28,xy, , ,in, deg, , ,N, , ,W, grid, , , ,N
Point29,xy, , ,in, deg, , ,N, , ,W, grid, , , ,N
Point30,xy, , ,in, deg, , ,N, , ,W, grid, , , ,N
Projection Setup, 0.000000000, 69.000000000, 1.000000000, 500000.00, 0.00,,,,,
Map Feature = MF ; Map Comment = MC These follow if they exist
Track File = TF These follow if they exist
Moving Map Parameters = MM? These follow if they exist
MM0,Yes
MMPNUM,4
MMPXY,1,85,96
MMPXY,2,2579,96
MMPXY,3,2579,2889
MMPXY,4,85,2889
MMPLL,1, 69.507325, 53.991832
MMPLL,2, 69.990614, 53.993000
MMPLL,3, 69.991490, 53.674865
MMPLL,4, 69.511849, 53.673695
MM1B,12.703861
MOP,Map Open Position,0,0
IWH,Map Image Width/Height,2664,2985
