OziExplorer Map Data File Version 2.2
100k--n42-077.gif
100k--n42-077.gif
1 ,Map Code,
Pulkovo 1942 (2),WGS 84, 0.0000, 0.0000,WGS 84
Reserved 1
Reserved 2
Magnetic Variation,,,E
Map Projection,Transverse Mercator,PolyCal,No,AutoCalOnly,No,BSBUseWPX,No
Point01,xy, 40, 15,in, deg, 54, 0.0000,N, 68, 0.0000,E, grid, , , ,N
Point02,xy, 1326, 16,in, deg, 54, 0.0000,N, 68, 15.0000,E, grid, , , ,N
Point03,xy, 2615, 20,in, deg, 54, 0.0000,N, 68, 30.0000,E, grid, , , ,N
Point04,xy, 32, 1472,in, deg, 53, 50.0000,N, 68, 0.0000,E, grid, , , ,N
Point05,xy, 1316, 1482,ex, deg, 53, 50.0000,N, 68, 15.0000,E, grid, , , ,N
Point06,xy, 2618, 1477,in, deg, 53, 50.0000,N, 68, 30.0000,E, grid, , , ,N
Point07,xy, 22, 2928,in, deg, 53, 40.0000,N, 68, 0.0000,E, grid, , , ,N
Point08,xy, 1318, 2932,in, deg, 53, 40.0000,N, 68, 15.0000,E, grid, , , ,N
Point09,xy, 2621, 2934,in, deg, 53, 40.0000,N, 68, 30.0000,E, grid, , , ,N
Point10,xy, , ,in, deg, , ,N, , ,W, grid, , , ,N
Point11,xy, , ,in, deg, , ,N, , ,W, grid, , , ,N
Point12,xy, , ,in, deg, , ,N, , ,W, grid, , , ,N
Point13,xy, , ,in, deg, , ,N, , ,W, grid, , , ,N
Point14,xy, , ,in, deg, , ,N, , ,W, grid, , , ,N
Point15,xy, , ,in, deg, , ,N, , ,W, grid, , , ,N
Point16,xy, , ,in, deg, , ,N, , ,W, grid, , , ,N
Point17,xy, , ,in, deg, , ,N, , ,W, grid, , , ,N
Point18,xy, , ,in, deg, , ,N, , ,W, grid, , , ,N
Point19,xy, , ,in, deg, , ,N, , ,W, grid, , , ,N
Point20,xy, , ,in, deg, , ,N, , ,W, grid, , , ,N
Point21,xy, , ,in, deg, , ,N, , ,W, grid, , , ,N
Point22,xy, , ,in, deg, , ,N, , ,W, grid, , , ,N
Point23,xy, , ,in, deg, , ,N, , ,W, grid, , , ,N
Point24,xy, , ,in, deg, , ,N, , ,W, grid, , , ,N
Point25,xy, , ,in, deg, , ,N, , ,W, grid, , , ,N
Point26,xy, , ,in, deg, , ,N, , ,W, grid, , , ,N
Point27,xy, , ,in, deg, , ,N, , ,W, grid, , , ,N
Point28,xy, , ,in, deg, , ,N, , ,W, grid, , , ,N
Point29,xy, , ,in, deg, , ,N, , ,W, grid, , , ,N
Point30,xy, , ,in, deg, , ,N, , ,W, grid, , , ,N
Projection Setup, 0.000000000, 69.000000000, 1.000000000, 500000.00, 0.00,,,,,
Map Feature = MF ; Map Comment = MC These follow if they exist
Track File = TF These follow if they exist
Moving Map Parameters = MM? These follow if they exist
MM0,Yes
MMPNUM,4
MMPXY,1,85,95
MMPXY,2,2575,95
MMPXY,3,2575,2861
MMPXY,4,85,2861
MMPLL,1, 68.008990, 53.990745
MMPLL,2, 68.492117, 53.991336
MMPLL,3, 68.491518, 53.674965
MMPLL,4, 68.012018, 53.674391
MM1B,12.721245
MOP,Map Open Position,0,0
IWH,Map Image Width/Height,2660,2956
