OziExplorer Map Data File Version 2.2
100k--n42-069.gif
100k--n42-069.gif
1 ,Map Code,
Pulkovo 1942 (2),WGS 84, 0.0000, 0.0000,WGS 84
Reserved 1
Reserved 2
Magnetic Variation,,,E
Map Projection,Transverse Mercator,PolyCal,No,AutoCalOnly,No,BSBUseWPX,No
Point01,xy, 36, 28,in, deg, 54, 20.0000,N, 70, 0.0000,E, grid, , , ,N
Point02,xy, 1314, 32,in, deg, 54, 20.0000,N, 70, 15.0000,E, grid, , , ,N
Point03,xy, 2594, 35,in, deg, 54, 20.0000,N, 70, 30.0000,E, grid, , , ,N
Point04,xy, 28, 1497,in, deg, 54, 10.0000,N, 70, 0.0000,E, grid, , , ,N
Point05,xy, 1312, 1501,in, deg, 54, 10.0000,N, 70, 15.0000,E, grid, , , ,N
Point06,xy, 2596, 1505,in, deg, 54, 10.0000,N, 70, 30.0000,E, grid, , , ,N
Point07,xy, 22, 2958,in, deg, 54, 0.0000,N, 70, 0.0000,E, grid, , , ,N
Point08,xy, 1310, 2961,in, deg, 54, 0.0000,N, 70, 15.0000,E, grid, , , ,N
Point09,xy, 2599, 2966,in, deg, 54, 0.0000,N, 70, 30.0000,E, grid, , , ,N
Point10,xy, , ,in, deg, , ,N, , ,W, grid, , , ,N
Point11,xy, , ,in, deg, , ,N, , ,W, grid, , , ,N
Point12,xy, , ,in, deg, , ,N, , ,W, grid, , , ,N
Point13,xy, , ,in, deg, , ,N, , ,W, grid, , , ,N
Point14,xy, , ,in, deg, , ,N, , ,W, grid, , , ,N
Point15,xy, , ,in, deg, , ,N, , ,W, grid, , , ,N
Point16,xy, , ,in, deg, , ,N, , ,W, grid, , , ,N
Point17,xy, , ,in, deg, , ,N, , ,W, grid, , , ,N
Point18,xy, , ,in, deg, , ,N, , ,W, grid, , , ,N
Point19,xy, , ,in, deg, , ,N, , ,W, grid, , , ,N
Point20,xy, , ,in, deg, , ,N, , ,W, grid, , , ,N
Point21,xy, , ,in, deg, , ,N, , ,W, grid, , , ,N
Point22,xy, , ,in, deg, , ,N, , ,W, grid, , , ,N
Point23,xy, , ,in, deg, , ,N, , ,W, grid, , , ,N
Point24,xy, , ,in, deg, , ,N, , ,W, grid, , , ,N
Point25,xy, , ,in, deg, , ,N, , ,W, grid, , , ,N
Point26,xy, , ,in, deg, , ,N, , ,W, grid, , , ,N
Point27,xy, , ,in, deg, , ,N, , ,W, grid, , , ,N
Point28,xy, , ,in, deg, , ,N, , ,W, grid, , , ,N
Point29,xy, , ,in, deg, , ,N, , ,W, grid, , , ,N
Point30,xy, , ,in, deg, , ,N, , ,W, grid, , , ,N
Projection Setup, 0.000000000, 69.000000000, 1.000000000, 500000.00, 0.00,,,,,
Map Feature = MF ; Map Comment = MC These follow if they exist
Track File = TF These follow if they exist
Moving Map Parameters = MM? These follow if they exist
MM0,Yes
MMPNUM,4
MMPXY,1,84,96
MMPXY,2,2544,96
MMPXY,3,2544,2892
MMPXY,4,84,2892
MMPLL,1, 70.009482, 54.325698
MMPLL,2, 70.490364, 54.326524
MMPLL,3, 70.489329, 54.008449
MMPLL,4, 70.012122, 54.007606
MM1B,12.711876
MOP,Map Open Position,0,0
IWH,Map Image Width/Height,2628,2988
