OziExplorer Map Data File Version 2.2
100k--n42-059.gif
100k--n42-059.gif
1 ,Map Code,
Pulkovo 1942 (2),WGS 84, 0.0000, 0.0000,WGS 84
Reserved 1
Reserved 2
Magnetic Variation,,,E
Map Projection,Transverse Mercator,PolyCal,No,AutoCalOnly,No,BSBUseWPX,No
Point01,xy, 40, 24,in, deg, 54, 40.0000,N, 71, 0.0000,E, grid, , , ,N
Point02,xy, 1298, 26,in, deg, 54, 40.0000,N, 71, 15.0000,E, grid, , , ,N
Point03,xy, 2560, 34,in, deg, 54, 40.0000,N, 71, 30.0000,E, grid, , , ,N
Point04,xy, 32, 1462,in, deg, 54, 30.0000,N, 71, 0.0000,E, grid, , , ,N
Point05,xy, 1292, 1466,in, deg, 54, 30.0000,N, 71, 15.0000,E, grid, , , ,N
Point06,xy, 2556, 1466,in, deg, 54, 30.0000,N, 71, 30.0000,E, grid, , , ,N
Point07,xy, 17, 2904,in, deg, 54, 20.0000,N, 71, 0.0000,E, grid, , , ,N
Point08,xy, 1285, 2910,in, deg, 54, 20.0000,N, 71, 15.0000,E, grid, , , ,N
Point09,xy, 2559, 2908,in, deg, 54, 20.0000,N, 71, 30.0000,E, grid, , , ,N
Point10,xy, , ,in, deg, , ,N, , ,W, grid, , , ,N
Point11,xy, , ,in, deg, , ,N, , ,W, grid, , , ,N
Point12,xy, , ,in, deg, , ,N, , ,W, grid, , , ,N
Point13,xy, , ,in, deg, , ,N, , ,W, grid, , , ,N
Point14,xy, , ,in, deg, , ,N, , ,W, grid, , , ,N
Point15,xy, , ,in, deg, , ,N, , ,W, grid, , , ,N
Point16,xy, , ,in, deg, , ,N, , ,W, grid, , , ,N
Point17,xy, , ,in, deg, , ,N, , ,W, grid, , , ,N
Point18,xy, , ,in, deg, , ,N, , ,W, grid, , , ,N
Point19,xy, , ,in, deg, , ,N, , ,W, grid, , , ,N
Point20,xy, , ,in, deg, , ,N, , ,W, grid, , , ,N
Point21,xy, , ,in, deg, , ,N, , ,W, grid, , , ,N
Point22,xy, , ,in, deg, , ,N, , ,W, grid, , , ,N
Point23,xy, , ,in, deg, , ,N, , ,W, grid, , , ,N
Point24,xy, , ,in, deg, , ,N, , ,W, grid, , , ,N
Point25,xy, , ,in, deg, , ,N, , ,W, grid, , , ,N
Point26,xy, , ,in, deg, , ,N, , ,W, grid, , , ,N
Point27,xy, , ,in, deg, , ,N, , ,W, grid, , , ,N
Point28,xy, , ,in, deg, , ,N, , ,W, grid, , , ,N
Point29,xy, , ,in, deg, , ,N, , ,W, grid, , , ,N
Point30,xy, , ,in, deg, , ,N, , ,W, grid, , , ,N
Projection Setup, 0.000000000, 69.000000000, 1.000000000, 500000.00, 0.00,,,,,
Map Feature = MF ; Map Comment = MC These follow if they exist
Track File = TF These follow if they exist
Moving Map Parameters = MM? These follow if they exist
MM0,Yes
MMPNUM,4
MMPXY,1,83,94
MMPXY,2,2496,94
MMPXY,3,2496,2830
MMPXY,4,83,2830
MMPLL,1, 71.008605, 54.658517
MMPLL,2, 71.487588, 54.659168
MMPLL,3, 71.488065, 54.342448
MMPLL,4, 71.012774, 54.341770
MM1B,12.801306
MOP,Map Open Position,0,0
IWH,Map Image Width/Height,2579,2924
