OziExplorer Map Data File Version 2.2
100k--n42-052.gif
100k--n42-052.gif
1 ,Map Code,
Pulkovo 1942 (2),WGS 84, 0.0000, 0.0000,WGS 84
Reserved 1
Reserved 2
Magnetic Variation,,,E
Map Projection,Transverse Mercator,PolyCal,No,AutoCalOnly,No,BSBUseWPX,No
Point01,xy, 42, 14,in, deg, 54, 40.0000,N, 67, 30.0000,E, grid, , , ,N
Point02,xy, 1310, 22,in, deg, 54, 40.0000,N, 67, 45.0000,E, grid, , , ,N
Point03,xy, 2586, 26,in, deg, 54, 40.0000,N, 68, 0.0000,E, grid, , , ,N
Point04,xy, 32, 1476,in, deg, 54, 30.0000,N, 67, 30.0000,E, grid, , , ,N
Point05,xy, 1304, 1478,in, deg, 54, 30.0000,N, 67, 45.0000,E, grid, , , ,N
Point06,xy, 2584, 1484,in, deg, 54, 30.0000,N, 68, 0.0000,E, grid, , , ,N
Point07,xy, 20, 2936,in, deg, 54, 20.0000,N, 67, 30.0000,E, grid, , , ,N
Point08,xy, 1298, 2944,in, deg, 54, 20.0000,N, 67, 45.0000,E, grid, , , ,N
Point09,xy, 2584, 2944,in, deg, 54, 20.0000,N, 68, 0.0000,E, grid, , , ,N
Point10,xy, , ,in, deg, , ,N, , ,W, grid, , , ,N
Point11,xy, , ,in, deg, , ,N, , ,W, grid, , , ,N
Point12,xy, , ,in, deg, , ,N, , ,W, grid, , , ,N
Point13,xy, , ,in, deg, , ,N, , ,W, grid, , , ,N
Point14,xy, , ,in, deg, , ,N, , ,W, grid, , , ,N
Point15,xy, , ,in, deg, , ,N, , ,W, grid, , , ,N
Point16,xy, , ,in, deg, , ,N, , ,W, grid, , , ,N
Point17,xy, , ,in, deg, , ,N, , ,W, grid, , , ,N
Point18,xy, , ,in, deg, , ,N, , ,W, grid, , , ,N
Point19,xy, , ,in, deg, , ,N, , ,W, grid, , , ,N
Point20,xy, , ,in, deg, , ,N, , ,W, grid, , , ,N
Point21,xy, , ,in, deg, , ,N, , ,W, grid, , , ,N
Point22,xy, , ,in, deg, , ,N, , ,W, grid, , , ,N
Point23,xy, , ,in, deg, , ,N, , ,W, grid, , , ,N
Point24,xy, , ,in, deg, , ,N, , ,W, grid, , , ,N
Point25,xy, , ,in, deg, , ,N, , ,W, grid, , , ,N
Point26,xy, , ,in, deg, , ,N, , ,W, grid, , , ,N
Point27,xy, , ,in, deg, , ,N, , ,W, grid, , , ,N
Point28,xy, , ,in, deg, , ,N, , ,W, grid, , , ,N
Point29,xy, , ,in, deg, , ,N, , ,W, grid, , , ,N
Point30,xy, , ,in, deg, , ,N, , ,W, grid, , , ,N
Projection Setup, 0.000000000, 69.000000000, 1.000000000, 500000.00, 0.00,,,,,
Map Feature = MF ; Map Comment = MC These follow if they exist
Track File = TF These follow if they exist
Moving Map Parameters = MM? These follow if they exist
MM0,Yes
MMPNUM,4
MMPXY,1,84,95
MMPXY,2,2538,95
MMPXY,3,2538,2875
MMPXY,4,84,2875
MMPLL,1, 67.508534, 54.657533
MMPLL,2, 67.990937, 54.658567
MMPLL,3, 67.991306, 54.341282
MMPLL,4, 67.512625, 54.340277
MM1B,12.681582
MOP,Map Open Position,0,0
IWH,Map Image Width/Height,2622,2970
