OziExplorer Map Data File Version 2.2
100k--n42-043.gif
100k--n42-043.gif
1 ,Map Code,
Pulkovo 1942 (2),WGS 84, 0.0000, 0.0000,WGS 84
Reserved 1
Reserved 2
Magnetic Variation,,,E
Map Projection,Transverse Mercator,PolyCal,No,AutoCalOnly,No,BSBUseWPX,No
Point01,xy, 40, 24,in, deg, 55, 0.0000,N, 69, 0.0000,E, grid, , , ,N
Point02,xy, 1298, 28,in, deg, 55, 0.0000,N, 69, 15.0000,E, grid, , , ,N
Point03,xy, 2560, 30,in, deg, 55, 0.0000,N, 69, 30.0000,E, grid, , , ,N
Point04,xy, 31, 1482,in, deg, 54, 50.0000,N, 69, 0.0000,E, grid, , , ,N
Point05,xy, 1294, 1490,in, deg, 54, 50.0000,N, 69, 15.0000,E, grid, , , ,N
Point06,xy, 2561, 1492,in, deg, 54, 50.0000,N, 69, 30.0000,E, grid, , , ,N
Point07,xy, 20, 2941,in, deg, 54, 40.0000,N, 69, 0.0000,E, grid, , , ,N
Point08,xy, 1290, 2946,in, deg, 54, 40.0000,N, 69, 15.0000,E, grid, , , ,N
Point09,xy, 2562, 2948,in, deg, 54, 40.0000,N, 69, 30.0000,E, grid, , , ,N
Point10,xy, , ,in, deg, , ,N, , ,W, grid, , , ,N
Point11,xy, , ,in, deg, , ,N, , ,W, grid, , , ,N
Point12,xy, , ,in, deg, , ,N, , ,W, grid, , , ,N
Point13,xy, , ,in, deg, , ,N, , ,W, grid, , , ,N
Point14,xy, , ,in, deg, , ,N, , ,W, grid, , , ,N
Point15,xy, , ,in, deg, , ,N, , ,W, grid, , , ,N
Point16,xy, , ,in, deg, , ,N, , ,W, grid, , , ,N
Point17,xy, , ,in, deg, , ,N, , ,W, grid, , , ,N
Point18,xy, , ,in, deg, , ,N, , ,W, grid, , , ,N
Point19,xy, , ,in, deg, , ,N, , ,W, grid, , , ,N
Point20,xy, , ,in, deg, , ,N, , ,W, grid, , , ,N
Point21,xy, , ,in, deg, , ,N, , ,W, grid, , , ,N
Point22,xy, , ,in, deg, , ,N, , ,W, grid, , , ,N
Point23,xy, , ,in, deg, , ,N, , ,W, grid, , , ,N
Point24,xy, , ,in, deg, , ,N, , ,W, grid, , , ,N
Point25,xy, , ,in, deg, , ,N, , ,W, grid, , , ,N
Point26,xy, , ,in, deg, , ,N, , ,W, grid, , , ,N
Point27,xy, , ,in, deg, , ,N, , ,W, grid, , , ,N
Point28,xy, , ,in, deg, , ,N, , ,W, grid, , , ,N
Point29,xy, , ,in, deg, , ,N, , ,W, grid, , , ,N
Point30,xy, , ,in, deg, , ,N, , ,W, grid, , , ,N
Projection Setup, 0.000000000, 69.000000000, 1.000000000, 500000.00, 0.00,,,,,
Map Feature = MF ; Map Comment = MC These follow if they exist
Track File = TF These follow if they exist
Moving Map Parameters = MM? These follow if they exist
MM0,Yes
MMPNUM,4
MMPXY,1,83,95
MMPXY,2,2502,95
MMPXY,3,2502,2877
MMPXY,4,83,2877
MMPLL,1, 69.008755, 54.991851
MMPLL,2, 69.488574, 54.992691
MMPLL,3, 69.488333, 54.674862
MMPLL,4, 69.012270, 54.674024
MM1B,12.690868
MOP,Map Open Position,0,0
IWH,Map Image Width/Height,2585,2972
