OziExplorer Map Data File Version 2.2
100k--n42-004.gif
100k--n42-004.gif
1 ,Map Code,
Pulkovo 1942 (2),WGS 84, 0.0000, 0.0000,WGS 84
Reserved 1
Reserved 2
Magnetic Variation,,,E
Map Projection,Transverse Mercator,PolyCal,No,AutoCalOnly,No,BSBUseWPX,No
Point01,xy, 74, 70,in, deg, 56, 0.0000,N, 67, 30.0000,E, grid, , , ,N
Point02,xy, 1001, 73,in, deg, 56, 0.0000,N, 67, 45.0000,E, grid, , , ,N
Point03,xy, 1924, 73,in, deg, 56, 0.0000,N, 68, 0.0000,E, grid, , , ,N
Point04,xy, 73, 1165,in, deg, 55, 50.0000,N, 67, 30.0000,E, grid, , , ,N
Point05,xy, 1002, 1168,in, deg, 55, 50.0000,N, 67, 45.0000,E, grid, , , ,N
Point06,xy, 1929, 1169,in, deg, 55, 50.0000,N, 68, 0.0000,E, grid, , , ,N
Point07,xy, 71, 2261,in, deg, 55, 40.0000,N, 67, 30.0000,E, grid, , , ,N
Point08,xy, 1003, 2263,in, deg, 55, 40.0000,N, 67, 45.0000,E, grid, , , ,N
Point09,xy, 1935, 2264,in, deg, 55, 40.0000,N, 68, 0.0000,E, grid, , , ,N
Point10,xy, , ,in, deg, , ,N, , ,W, grid, , , ,N
Point11,xy, , ,in, deg, , ,N, , ,W, grid, , , ,N
Point12,xy, , ,in, deg, , ,N, , ,W, grid, , , ,N
Point13,xy, , ,in, deg, , ,N, , ,W, grid, , , ,N
Point14,xy, , ,in, deg, , ,N, , ,W, grid, , , ,N
Point15,xy, , ,in, deg, , ,N, , ,W, grid, , , ,N
Point16,xy, , ,in, deg, , ,N, , ,W, grid, , , ,N
Point17,xy, , ,in, deg, , ,N, , ,W, grid, , , ,N
Point18,xy, , ,in, deg, , ,N, , ,W, grid, , , ,N
Point19,xy, , ,in, deg, , ,N, , ,W, grid, , , ,N
Point20,xy, , ,in, deg, , ,N, , ,W, grid, , , ,N
Point21,xy, , ,in, deg, , ,N, , ,W, grid, , , ,N
Point22,xy, , ,in, deg, , ,N, , ,W, grid, , , ,N
Point23,xy, , ,in, deg, , ,N, , ,W, grid, , , ,N
Point24,xy, , ,in, deg, , ,N, , ,W, grid, , , ,N
Point25,xy, , ,in, deg, , ,N, , ,W, grid, , , ,N
Point26,xy, , ,in, deg, , ,N, , ,W, grid, , , ,N
Point27,xy, , ,in, deg, , ,N, , ,W, grid, , , ,N
Point28,xy, , ,in, deg, , ,N, , ,W, grid, , , ,N
Point29,xy, , ,in, deg, , ,N, , ,W, grid, , , ,N
Point30,xy, , ,in, deg, , ,N, , ,W, grid, , , ,N
Projection Setup, 0.000000000, 69.000000000, 1.000000000, 500000.00, 0.00,,,,,
Map Feature = MF ; Map Comment = MC These follow if they exist
Track File = TF These follow if they exist
Moving Map Parameters = MM? These follow if they exist
MM0,Yes
MMPNUM,4
MMPXY,1,74,70
MMPXY,2,1924,73
MMPXY,3,1935,2264
MMPXY,4,71,2261
MMPLL,1, 67.500000, 56.000000
MMPLL,2, 68.000000, 56.000000
MMPLL,3, 68.000000, 55.666667
MMPLL,4, 67.500000, 55.666667
MM1B,15.893471
MOP,Map Open Position,0,0
IWH,Map Image Width/Height,2003,2328
