OziExplorer Map Data File Version 2.2
100k--n41-143.gif
100k--n41-143.gif
1 ,Map Code,
Pulkovo 1942 (2),WGS 84, 0.0000, 0.0000,WGS 84
Reserved 1
Reserved 2
Magnetic Variation,,,E
Map Projection,Transverse Mercator,PolyCal,No,AutoCalOnly,No,BSBUseWPX,No
Point01,xy, 33, 32,in, deg, 52, 20.0000,N, 65, 0.0000,E, grid, , , ,N
Point02,xy, 1372, 32,in, deg, 52, 20.0000,N, 65, 15.0000,E, grid, , , ,N
Point03,xy, 2715, 31,in, deg, 52, 20.0000,N, 65, 30.0000,E, grid, , , ,N
Point04,xy, 31, 1491,in, deg, 52, 10.0000,N, 65, 0.0000,E, grid, , , ,N
Point05,xy, 1374, 1491,in, deg, 52, 10.0000,N, 65, 15.0000,E, grid, , , ,N
Point06,xy, 2720, 1490,in, deg, 52, 10.0000,N, 65, 30.0000,E, grid, , , ,N
Point07,xy, 26, 2950,in, deg, 52, 0.0000,N, 65, 0.0000,E, grid, , , ,N
Point08,xy, 1373, 2950,in, deg, 52, 0.0000,N, 65, 15.0000,E, grid, , , ,N
Point09,xy, 2727, 2950,in, deg, 52, 0.0000,N, 65, 30.0000,E, grid, , , ,N
Point10,xy, , ,in, deg, , ,N, , ,W, grid, , , ,N
Point11,xy, , ,in, deg, , ,N, , ,W, grid, , , ,N
Point12,xy, , ,in, deg, , ,N, , ,W, grid, , , ,N
Point13,xy, , ,in, deg, , ,N, , ,W, grid, , , ,N
Point14,xy, , ,in, deg, , ,N, , ,W, grid, , , ,N
Point15,xy, , ,in, deg, , ,N, , ,W, grid, , , ,N
Point16,xy, , ,in, deg, , ,N, , ,W, grid, , , ,N
Point17,xy, , ,in, deg, , ,N, , ,W, grid, , , ,N
Point18,xy, , ,in, deg, , ,N, , ,W, grid, , , ,N
Point19,xy, , ,in, deg, , ,N, , ,W, grid, , , ,N
Point20,xy, , ,in, deg, , ,N, , ,W, grid, , , ,N
Point21,xy, , ,in, deg, , ,N, , ,W, grid, , , ,N
Point22,xy, , ,in, deg, , ,N, , ,W, grid, , , ,N
Point23,xy, , ,in, deg, , ,N, , ,W, grid, , , ,N
Point24,xy, , ,in, deg, , ,N, , ,W, grid, , , ,N
Point25,xy, , ,in, deg, , ,N, , ,W, grid, , , ,N
Point26,xy, , ,in, deg, , ,N, , ,W, grid, , , ,N
Point27,xy, , ,in, deg, , ,N, , ,W, grid, , , ,N
Point28,xy, , ,in, deg, , ,N, , ,W, grid, , , ,N
Point29,xy, , ,in, deg, , ,N, , ,W, grid, , , ,N
Point30,xy, , ,in, deg, , ,N, , ,W, grid, , , ,N
Projection Setup, 0.000000000, 63.000000000, 1.000000000, 500000.00, 0.00,,,,,
Map Feature = MF ; Map Comment = MC These follow if they exist
Track File = TF These follow if they exist
Moving Map Parameters = MM? These follow if they exist
MM0,Yes
MMPNUM,4
MMPXY,1,88,96
MMPXY,2,2673,96
MMPXY,3,2673,2892
MMPXY,4,88,2892
MMPLL,1, 65.010243, 52.325958
MMPLL,2, 65.492330, 52.325859
MMPLL,3, 65.490246, 52.006523
MMPLL,4, 65.011600, 52.006580
MM1B,12.707578
MOP,Map Open Position,0,0
IWH,Map Image Width/Height,2761,2988
