OziExplorer Map Data File Version 2.2
100k--n41-140.gif
100k--n41-140.gif
1 ,Map Code,
Pulkovo 1942 (2),WGS 84, 0.0000, 0.0000,WGS 84
Reserved 1
Reserved 2
Magnetic Variation,,,E
Map Projection,Transverse Mercator,PolyCal,No,AutoCalOnly,No,BSBUseWPX,No
Point01,xy, 31, 20,in, deg, 52, 20.0000,N, 63, 30.0000,E, grid, , , ,N
Point02,xy, 1374, 25,in, deg, 52, 20.0000,N, 63, 45.0000,E, grid, , , ,N
Point03,xy, 2713, 34,in, deg, 52, 20.0000,N, 64, 0.0000,E, grid, , , ,N
Point04,xy, 29, 1484,in, deg, 52, 10.0000,N, 63, 30.0000,E, grid, , , ,N
Point05,xy, 1374, 1485,in, deg, 52, 10.0000,N, 63, 45.0000,E, grid, , , ,N
Point06,xy, 2720, 1480,in, deg, 52, 10.0000,N, 64, 0.0000,E, grid, , , ,N
Point07,xy, 25, 2943,in, deg, 52, 0.0000,N, 63, 30.0000,E, grid, , , ,N
Point08,xy, 1375, 2943,in, deg, 52, 0.0000,N, 63, 45.0000,E, grid, , , ,N
Point09,xy, 2728, 2939,in, deg, 52, 0.0000,N, 64, 0.0000,E, grid, , , ,N
Point10,xy, , ,in, deg, , ,N, , ,W, grid, , , ,N
Point11,xy, , ,in, deg, , ,N, , ,W, grid, , , ,N
Point12,xy, , ,in, deg, , ,N, , ,W, grid, , , ,N
Point13,xy, , ,in, deg, , ,N, , ,W, grid, , , ,N
Point14,xy, , ,in, deg, , ,N, , ,W, grid, , , ,N
Point15,xy, , ,in, deg, , ,N, , ,W, grid, , , ,N
Point16,xy, , ,in, deg, , ,N, , ,W, grid, , , ,N
Point17,xy, , ,in, deg, , ,N, , ,W, grid, , , ,N
Point18,xy, , ,in, deg, , ,N, , ,W, grid, , , ,N
Point19,xy, , ,in, deg, , ,N, , ,W, grid, , , ,N
Point20,xy, , ,in, deg, , ,N, , ,W, grid, , , ,N
Point21,xy, , ,in, deg, , ,N, , ,W, grid, , , ,N
Point22,xy, , ,in, deg, , ,N, , ,W, grid, , , ,N
Point23,xy, , ,in, deg, , ,N, , ,W, grid, , , ,N
Point24,xy, , ,in, deg, , ,N, , ,W, grid, , , ,N
Point25,xy, , ,in, deg, , ,N, , ,W, grid, , , ,N
Point26,xy, , ,in, deg, , ,N, , ,W, grid, , , ,N
Point27,xy, , ,in, deg, , ,N, , ,W, grid, , , ,N
Point28,xy, , ,in, deg, , ,N, , ,W, grid, , , ,N
Point29,xy, , ,in, deg, , ,N, , ,W, grid, , , ,N
Point30,xy, , ,in, deg, , ,N, , ,W, grid, , , ,N
Projection Setup, 0.000000000, 63.000000000, 1.000000000, 500000.00, 0.00,,,,,
Map Feature = MF ; Map Comment = MC These follow if they exist
Track File = TF These follow if they exist
Moving Map Parameters = MM? These follow if they exist
MM0,Yes
MMPNUM,4
MMPXY,1,88,95
MMPXY,2,2663,95
MMPXY,3,2663,2873
MMPXY,4,88,2873
MMPLL,1, 63.510525, 52.325273
MMPLL,2, 63.990503, 52.325480
MMPLL,3, 63.988208, 52.007860
MMPLL,4, 63.511637, 52.007637
MM1B,12.703242
MOP,Map Open Position,0,0
IWH,Map Image Width/Height,2751,2968
