OziExplorer Map Data File Version 2.2
100k--n41-132.gif
100k--n41-132.gif
1 ,Map Code,
Pulkovo 1942 (2),WGS 84, 0.0000, 0.0000,WGS 84
Reserved 1
Reserved 2
Magnetic Variation,,,E
Map Projection,Transverse Mercator,PolyCal,No,AutoCalOnly,No,BSBUseWPX,No
Point01,xy, 31, 28,in, deg, 52, 40.0000,N, 65, 30.0000,E, grid, , , ,N
Point02,xy, 1361, 26,in, deg, 52, 40.0000,N, 65, 45.0000,E, grid, , , ,N
Point03,xy, 2692, 26,in, deg, 52, 40.0000,N, 66, 0.0000,E, grid, , , ,N
Point04,xy, 28, 1492,in, deg, 52, 30.0000,N, 65, 30.0000,E, grid, , , ,N
Point05,xy, 1360, 1490,in, deg, 52, 30.0000,N, 65, 45.0000,E, grid, , , ,N
Point06,xy, 2698, 1486,in, deg, 52, 30.0000,N, 66, 0.0000,E, grid, , , ,N
Point07,xy, 24, 2951,in, deg, 52, 20.0000,N, 65, 30.0000,E, grid, , , ,N
Point08,xy, 1364, 2950,in, deg, 52, 20.0000,N, 65, 45.0000,E, grid, , , ,N
Point09,xy, 2706, 2946,in, deg, 52, 20.0000,N, 66, 0.0000,E, grid, , , ,N
Point10,xy, , ,in, deg, , ,N, , ,W, grid, , , ,N
Point11,xy, , ,in, deg, , ,N, , ,W, grid, , , ,N
Point12,xy, , ,in, deg, , ,N, , ,W, grid, , , ,N
Point13,xy, , ,in, deg, , ,N, , ,W, grid, , , ,N
Point14,xy, , ,in, deg, , ,N, , ,W, grid, , , ,N
Point15,xy, , ,in, deg, , ,N, , ,W, grid, , , ,N
Point16,xy, , ,in, deg, , ,N, , ,W, grid, , , ,N
Point17,xy, , ,in, deg, , ,N, , ,W, grid, , , ,N
Point18,xy, , ,in, deg, , ,N, , ,W, grid, , , ,N
Point19,xy, , ,in, deg, , ,N, , ,W, grid, , , ,N
Point20,xy, , ,in, deg, , ,N, , ,W, grid, , , ,N
Point21,xy, , ,in, deg, , ,N, , ,W, grid, , , ,N
Point22,xy, , ,in, deg, , ,N, , ,W, grid, , , ,N
Point23,xy, , ,in, deg, , ,N, , ,W, grid, , , ,N
Point24,xy, , ,in, deg, , ,N, , ,W, grid, , , ,N
Point25,xy, , ,in, deg, , ,N, , ,W, grid, , , ,N
Point26,xy, , ,in, deg, , ,N, , ,W, grid, , , ,N
Point27,xy, , ,in, deg, , ,N, , ,W, grid, , , ,N
Point28,xy, , ,in, deg, , ,N, , ,W, grid, , , ,N
Point29,xy, , ,in, deg, , ,N, , ,W, grid, , , ,N
Point30,xy, , ,in, deg, , ,N, , ,W, grid, , , ,N
Projection Setup, 0.000000000, 63.000000000, 1.000000000, 500000.00, 0.00,,,,,
Map Feature = MF ; Map Comment = MC These follow if they exist
Track File = TF These follow if they exist
Moving Map Parameters = MM? These follow if they exist
MM0,Yes
MMPNUM,4
MMPXY,1,88,95
MMPXY,2,2651,95
MMPXY,3,2651,2885
MMPXY,4,88,2885
MMPLL,1, 65.510822, 52.659111
MMPLL,2, 65.992341, 52.658606
MMPLL,3, 65.990003, 52.340396
MMPLL,4, 65.511951, 52.340851
MM1B,12.704564
MOP,Map Open Position,0,0
IWH,Map Image Width/Height,2739,2980
