OziExplorer Map Data File Version 2.2
100k--n41-118.gif
100k--n41-118.gif
1 ,Map Code,
Pulkovo 1942 (2),WGS 84, 0.0000, 0.0000,WGS 84
Reserved 1
Reserved 2
Magnetic Variation,,,E
Map Projection,Transverse Mercator,PolyCal,No,AutoCalOnly,No,BSBUseWPX,No
Point01,xy, 18, 35,in, deg, 53, 0.0000,N, 64, 30.0000,E, grid, , , ,N
Point02,xy, 1340, 31,in, deg, 53, 0.0000,N, 64, 45.0000,E, grid, , , ,N
Point03,xy, 2662, 25,in, deg, 53, 0.0000,N, 65, 0.0000,E, grid, , , ,N
Point04,xy, 22, 1496,in, deg, 52, 50.0000,N, 64, 30.0000,E, grid, , , ,N
Point05,xy, 1348, 1492,in, deg, 52, 50.0000,N, 64, 45.0000,E, grid, , , ,N
Point06,xy, 2674, 1487,in, deg, 52, 50.0000,N, 65, 0.0000,E, grid, , , ,N
Point07,xy, 22, 2958,in, deg, 52, 40.0000,N, 64, 30.0000,E, grid, , , ,N
Point08,xy, 1353, 2954,in, deg, 52, 40.0000,N, 64, 45.0000,E, grid, , , ,N
Point09,xy, 2686, 2946,in, deg, 52, 40.0000,N, 65, 0.0000,E, grid, , , ,N
Point10,xy, , ,in, deg, , ,N, , ,W, grid, , , ,N
Point11,xy, , ,in, deg, , ,N, , ,W, grid, , , ,N
Point12,xy, , ,in, deg, , ,N, , ,W, grid, , , ,N
Point13,xy, , ,in, deg, , ,N, , ,W, grid, , , ,N
Point14,xy, , ,in, deg, , ,N, , ,W, grid, , , ,N
Point15,xy, , ,in, deg, , ,N, , ,W, grid, , , ,N
Point16,xy, , ,in, deg, , ,N, , ,W, grid, , , ,N
Point17,xy, , ,in, deg, , ,N, , ,W, grid, , , ,N
Point18,xy, , ,in, deg, , ,N, , ,W, grid, , , ,N
Point19,xy, , ,in, deg, , ,N, , ,W, grid, , , ,N
Point20,xy, , ,in, deg, , ,N, , ,W, grid, , , ,N
Point21,xy, , ,in, deg, , ,N, , ,W, grid, , , ,N
Point22,xy, , ,in, deg, , ,N, , ,W, grid, , , ,N
Point23,xy, , ,in, deg, , ,N, , ,W, grid, , , ,N
Point24,xy, , ,in, deg, , ,N, , ,W, grid, , , ,N
Point25,xy, , ,in, deg, , ,N, , ,W, grid, , , ,N
Point26,xy, , ,in, deg, , ,N, , ,W, grid, , , ,N
Point27,xy, , ,in, deg, , ,N, , ,W, grid, , , ,N
Point28,xy, , ,in, deg, , ,N, , ,W, grid, , , ,N
Point29,xy, , ,in, deg, , ,N, , ,W, grid, , , ,N
Point30,xy, , ,in, deg, , ,N, , ,W, grid, , , ,N
Projection Setup, 0.000000000, 63.000000000, 1.000000000, 500000.00, 0.00,,,,,
Map Feature = MF ; Map Comment = MC These follow if they exist
Track File = TF These follow if they exist
Moving Map Parameters = MM? These follow if they exist
MM0,Yes
MMPNUM,4
MMPXY,1,87,95
MMPXY,2,2623,95
MMPXY,3,2623,2881
MMPXY,4,87,2881
MMPLL,1, 64.512886, 52.993133
MMPLL,2, 64.992521, 52.991980
MMPLL,3, 64.988311, 52.674227
MMPLL,4, 64.512164, 52.675340
MM1B,12.694615
MOP,Map Open Position,0,0
IWH,Map Image Width/Height,2710,2976
