OziExplorer Map Data File Version 2.2
100k--n41-105.gif
100k--n41-105.gif
1 ,Map Code,
Pulkovo 1942 (2),WGS 84, 0.0000, 0.0000,WGS 84
Reserved 1
Reserved 2
Magnetic Variation,,,E
Map Projection,Transverse Mercator,PolyCal,No,AutoCalOnly,No,BSBUseWPX,No
Point01,xy, 29, 52,in, deg, 53, 20.0000,N, 64, 0.0000,E, grid, , , ,N
Point02,xy, 1337, 48,in, deg, 53, 20.0000,N, 64, 15.0000,E, grid, , , ,N
Point03,xy, 2650, 41,in, deg, 53, 20.0000,N, 64, 30.0000,E, grid, , , ,N
Point04,xy, 30, 1516,in, deg, 53, 10.0000,N, 64, 0.0000,E, grid, , , ,N
Point05,xy, 1342, 1510,in, deg, 53, 10.0000,N, 64, 15.0000,E, grid, , , ,N
Point06,xy, 2660, 1503,in, deg, 53, 10.0000,N, 64, 30.0000,E, grid, , , ,N
Point07,xy, 30, 2976,in, deg, 53, 0.0000,N, 64, 0.0000,E, grid, , , ,N
Point08,xy, 1348, 2971,in, deg, 53, 0.0000,N, 64, 15.0000,E, grid, , , ,N
Point09,xy, 2673, 2961,in, deg, 53, 0.0000,N, 64, 30.0000,E, grid, , , ,N
Point10,xy, , ,in, deg, , ,N, , ,W, grid, , , ,N
Point11,xy, , ,in, deg, , ,N, , ,W, grid, , , ,N
Point12,xy, , ,in, deg, , ,N, , ,W, grid, , , ,N
Point13,xy, , ,in, deg, , ,N, , ,W, grid, , , ,N
Point14,xy, , ,in, deg, , ,N, , ,W, grid, , , ,N
Point15,xy, , ,in, deg, , ,N, , ,W, grid, , , ,N
Point16,xy, , ,in, deg, , ,N, , ,W, grid, , , ,N
Point17,xy, , ,in, deg, , ,N, , ,W, grid, , , ,N
Point18,xy, , ,in, deg, , ,N, , ,W, grid, , , ,N
Point19,xy, , ,in, deg, , ,N, , ,W, grid, , , ,N
Point20,xy, , ,in, deg, , ,N, , ,W, grid, , , ,N
Point21,xy, , ,in, deg, , ,N, , ,W, grid, , , ,N
Point22,xy, , ,in, deg, , ,N, , ,W, grid, , , ,N
Point23,xy, , ,in, deg, , ,N, , ,W, grid, , , ,N
Point24,xy, , ,in, deg, , ,N, , ,W, grid, , , ,N
Point25,xy, , ,in, deg, , ,N, , ,W, grid, , , ,N
Point26,xy, , ,in, deg, , ,N, , ,W, grid, , , ,N
Point27,xy, , ,in, deg, , ,N, , ,W, grid, , , ,N
Point28,xy, , ,in, deg, , ,N, , ,W, grid, , , ,N
Point29,xy, , ,in, deg, , ,N, , ,W, grid, , , ,N
Point30,xy, , ,in, deg, , ,N, , ,W, grid, , , ,N
Projection Setup, 0.000000000, 63.000000000, 1.000000000, 500000.00, 0.00,,,,,
Map Feature = MF ; Map Comment = MC These follow if they exist
Track File = TF These follow if they exist
Moving Map Parameters = MM? These follow if they exist
MM0,Yes
MMPNUM,4
MMPXY,1,86,96
MMPXY,2,2596,96
MMPXY,3,2596,2896
MMPXY,4,86,2896
MMPLL,1, 64.011072, 53.328448
MMPLL,2, 64.489800, 53.327020
MMPLL,3, 64.485910, 53.007665
MMPLL,4, 64.010724, 53.009063
MM1B,12.703150
MOP,Map Open Position,0,0
IWH,Map Image Width/Height,2682,2992
