OziExplorer Map Data File Version 2.2
100k--n41-091--(1985).gif
100k--n41-091--(1985).gif
1 ,Map Code,
Pulkovo 1942 (2),WGS 84, 0.0000, 0.0000,WGS 84
Reserved 1
Reserved 2
Magnetic Variation,,,E
Map Projection,Transverse Mercator,PolyCal,No,AutoCalOnly,No,BSBUseWPX,No
Point01,xy, 104, 88,in, deg, 53, 40.0000,N, 63, 0.0000,E, grid, , , ,N
Point02,xy, 1399, 93,in, deg, 53, 40.0000,N, 63, 15.0000,E, grid, , , ,N
Point03,xy, 2700, 91,in, deg, 53, 40.0000,N, 63, 30.0000,E, grid, , , ,N
Point04,xy, 92, 1549,in, deg, 53, 30.0000,N, 63, 0.0000,E, grid, , , ,N
Point05,xy, 1395, 1554,in, deg, 53, 30.0000,N, 63, 15.0000,E, grid, , , ,N
Point06,xy, 2697, 1552,in, deg, 53, 30.0000,N, 63, 30.0000,E, grid, , , ,N
Point07,xy, 79, 3009,in, deg, 53, 20.0000,N, 63, 0.0000,E, grid, , , ,N
Point08,xy, 1387, 3014,in, deg, 53, 20.0000,N, 63, 15.0000,E, grid, , , ,N
Point09,xy, 2695, 3014,in, deg, 53, 20.0000,N, 63, 30.0000,E, grid, , , ,N
Point10,xy, , ,in, deg, , ,N, , ,W, grid, , , ,N
Point11,xy, , ,in, deg, , ,N, , ,W, grid, , , ,N
Point12,xy, , ,in, deg, , ,N, , ,W, grid, , , ,N
Point13,xy, , ,in, deg, , ,N, , ,W, grid, , , ,N
Point14,xy, , ,in, deg, , ,N, , ,W, grid, , , ,N
Point15,xy, , ,in, deg, , ,N, , ,W, grid, , , ,N
Point16,xy, , ,in, deg, , ,N, , ,W, grid, , , ,N
Point17,xy, , ,in, deg, , ,N, , ,W, grid, , , ,N
Point18,xy, , ,in, deg, , ,N, , ,W, grid, , , ,N
Point19,xy, , ,in, deg, , ,N, , ,W, grid, , , ,N
Point20,xy, , ,in, deg, , ,N, , ,W, grid, , , ,N
Point21,xy, , ,in, deg, , ,N, , ,W, grid, , , ,N
Point22,xy, , ,in, deg, , ,N, , ,W, grid, , , ,N
Point23,xy, , ,in, deg, , ,N, , ,W, grid, , , ,N
Point24,xy, , ,in, deg, , ,N, , ,W, grid, , , ,N
Point25,xy, , ,in, deg, , ,N, , ,W, grid, , , ,N
Point26,xy, , ,in, deg, , ,N, , ,W, grid, , , ,N
Point27,xy, , ,in, deg, , ,N, , ,W, grid, , , ,N
Point28,xy, , ,in, deg, , ,N, , ,W, grid, , , ,N
Point29,xy, , ,in, deg, , ,N, , ,W, grid, , , ,N
Point30,xy, , ,in, deg, , ,N, , ,W, grid, , , ,N
Projection Setup, 0.000000000, 63.000000000, 1.000000000, 500000.00, 0.00,,,,,
Map Feature = MF ; Map Comment = MC These follow if they exist
Track File = TF These follow if they exist
Moving Map Parameters = MM? These follow if they exist
MM0,Yes
MMPNUM,4
MMPXY,1,89,99
MMPXY,2,2700,99
MMPXY,3,2700,3000
MMPXY,4,89,3000
MMPLL,1, 62.997223, 53.665419
MMPLL,2, 63.500204, 53.665842
MMPLL,3, 63.500921, 53.334869
MMPLL,4, 63.001842, 53.334453
MM1B,12.728493
MOP,Map Open Position,0,0
IWH,Map Image Width/Height,2789,3099
