OziExplorer Map Data File Version 2.2
100k--n41-086.gif
100k--n41-086.gif
1 ,Map Code,
Pulkovo 1942 (2),WGS 84, 0.0000, 0.0000,WGS 84
Reserved 1
Reserved 2
Magnetic Variation,,,E
Map Projection,Transverse Mercator,PolyCal,No,AutoCalOnly,No,BSBUseWPX,No
Point01,xy, 97, 90,in, deg, 53, 40.0000,N, 60, 30.0000,E, grid, , , ,N
Point02,xy, 1401, 88,in, deg, 53, 40.0000,N, 60, 45.0000,E, grid, , , ,N
Point03,xy, 2705, 85,in, deg, 53, 40.0000,N, 61, 0.0000,E, grid, , , ,N
Point04,xy, 94, 1532,in, deg, 53, 30.0000,N, 60, 30.0000,E, grid, , , ,N
Point05,xy, 1402, 1533,in, deg, 53, 30.0000,N, 60, 45.0000,E, grid, , , ,N
Point06,xy, 2710, 1529,in, deg, 53, 30.0000,N, 61, 0.0000,E, grid, , , ,N
Point07,xy, 88, 2974,in, deg, 53, 20.0000,N, 60, 30.0000,E, grid, , , ,N
Point08,xy, 1403, 2978,in, deg, 53, 20.0000,N, 60, 45.0000,E, grid, , , ,N
Point09,xy, 2718, 2973,in, deg, 53, 20.0000,N, 61, 0.0000,E, grid, , , ,N
Point10,xy, , ,in, deg, , ,N, , ,W, grid, , , ,N
Point11,xy, , ,in, deg, , ,N, , ,W, grid, , , ,N
Point12,xy, , ,in, deg, , ,N, , ,W, grid, , , ,N
Point13,xy, , ,in, deg, , ,N, , ,W, grid, , , ,N
Point14,xy, , ,in, deg, , ,N, , ,W, grid, , , ,N
Point15,xy, , ,in, deg, , ,N, , ,W, grid, , , ,N
Point16,xy, , ,in, deg, , ,N, , ,W, grid, , , ,N
Point17,xy, , ,in, deg, , ,N, , ,W, grid, , , ,N
Point18,xy, , ,in, deg, , ,N, , ,W, grid, , , ,N
Point19,xy, , ,in, deg, , ,N, , ,W, grid, , , ,N
Point20,xy, , ,in, deg, , ,N, , ,W, grid, , , ,N
Point21,xy, , ,in, deg, , ,N, , ,W, grid, , , ,N
Point22,xy, , ,in, deg, , ,N, , ,W, grid, , , ,N
Point23,xy, , ,in, deg, , ,N, , ,W, grid, , , ,N
Point24,xy, , ,in, deg, , ,N, , ,W, grid, , , ,N
Point25,xy, , ,in, deg, , ,N, , ,W, grid, , , ,N
Point26,xy, , ,in, deg, , ,N, , ,W, grid, , , ,N
Point27,xy, , ,in, deg, , ,N, , ,W, grid, , , ,N
Point28,xy, , ,in, deg, , ,N, , ,W, grid, , , ,N
Point29,xy, , ,in, deg, , ,N, , ,W, grid, , , ,N
Point30,xy, , ,in, deg, , ,N, , ,W, grid, , , ,N
Projection Setup, 0.000000000, 63.000000000, 1.000000000, 500000.00, 0.00,,,,,
Map Feature = MF ; Map Comment = MC These follow if they exist
Track File = TF These follow if they exist
Moving Map Parameters = MM? These follow if they exist
MM0,Yes
MMPNUM,4
MMPXY,1,97,90
MMPXY,2,2705,85
MMPXY,3,2718,2973
MMPXY,4,88,2974
MMPLL,1, 60.500000, 53.666667
MMPLL,2, 61.000000, 53.666667
MMPLL,3, 61.000000, 53.333333
MMPLL,4, 60.500000, 53.333333
MM1B,12.052117
MOP,Map Open Position,0,0
IWH,Map Image Width/Height,2806,3070
