OziExplorer Map Data File Version 2.2
100k--n41-084.gif
100k--n41-084.gif
1 ,Map Code,
Pulkovo 1942 (2),WGS 84, 0.0000, 0.0000,WGS 84
Reserved 1
Reserved 2
Magnetic Variation,,,E
Map Projection,Transverse Mercator,PolyCal,No,AutoCalOnly,No,BSBUseWPX,No
Point01,xy, 24, 28,in, deg, 54, 0.0000,N, 65, 30.0000,E, grid, , , ,N
Point02,xy, 1312, 28,in, deg, 54, 0.0000,N, 65, 45.0000,E, grid, , , ,N
Point03,xy, 2603, 22,in, deg, 54, 0.0000,N, 66, 0.0000,E, grid, , , ,N
Point04,xy, 23, 1490,in, deg, 53, 50.0000,N, 65, 30.0000,E, grid, , , ,N
Point05,xy, 1316, 1488,in, deg, 53, 50.0000,N, 65, 45.0000,E, grid, , , ,N
Point06,xy, 2612, 1482,in, deg, 53, 50.0000,N, 66, 0.0000,E, grid, , , ,N
Point07,xy, 23, 2952,in, deg, 53, 40.0000,N, 65, 30.0000,E, grid, , , ,N
Point08,xy, 1320, 2947,in, deg, 53, 40.0000,N, 65, 45.0000,E, grid, , , ,N
Point09,xy, 2621, 2940,in, deg, 53, 40.0000,N, 66, 0.0000,E, grid, , , ,N
Point10,xy, , ,in, deg, , ,N, , ,W, grid, , , ,N
Point11,xy, , ,in, deg, , ,N, , ,W, grid, , , ,N
Point12,xy, , ,in, deg, , ,N, , ,W, grid, , , ,N
Point13,xy, , ,in, deg, , ,N, , ,W, grid, , , ,N
Point14,xy, , ,in, deg, , ,N, , ,W, grid, , , ,N
Point15,xy, , ,in, deg, , ,N, , ,W, grid, , , ,N
Point16,xy, , ,in, deg, , ,N, , ,W, grid, , , ,N
Point17,xy, , ,in, deg, , ,N, , ,W, grid, , , ,N
Point18,xy, , ,in, deg, , ,N, , ,W, grid, , , ,N
Point19,xy, , ,in, deg, , ,N, , ,W, grid, , , ,N
Point20,xy, , ,in, deg, , ,N, , ,W, grid, , , ,N
Point21,xy, , ,in, deg, , ,N, , ,W, grid, , , ,N
Point22,xy, , ,in, deg, , ,N, , ,W, grid, , , ,N
Point23,xy, , ,in, deg, , ,N, , ,W, grid, , , ,N
Point24,xy, , ,in, deg, , ,N, , ,W, grid, , , ,N
Point25,xy, , ,in, deg, , ,N, , ,W, grid, , , ,N
Point26,xy, , ,in, deg, , ,N, , ,W, grid, , , ,N
Point27,xy, , ,in, deg, , ,N, , ,W, grid, , , ,N
Point28,xy, , ,in, deg, , ,N, , ,W, grid, , , ,N
Point29,xy, , ,in, deg, , ,N, , ,W, grid, , , ,N
Point30,xy, , ,in, deg, , ,N, , ,W, grid, , , ,N
Projection Setup, 0.000000000, 63.000000000, 1.000000000, 500000.00, 0.00,,,,,
Map Feature = MF ; Map Comment = MC These follow if they exist
Track File = TF These follow if they exist
Moving Map Parameters = MM? These follow if they exist
MM0,Yes
MMPNUM,4
MMPXY,1,85,95
MMPXY,2,2558,95
MMPXY,3,2558,2869
MMPXY,4,85,2869
MMPLL,1, 65.511884, 53.992561
MMPLL,2, 65.991353, 53.991586
MMPLL,3, 65.988015, 53.674987
MMPLL,4, 65.512151, 53.675912
MM1B,12.708650
MOP,Map Open Position,0,0
IWH,Map Image Width/Height,2643,2964
