OziExplorer Map Data File Version 2.2
100k--n41-077.gif
100k--n41-077.gif
1 ,Map Code,
Pulkovo 1942 (2),WGS 84, 0.0000, 0.0000,WGS 84
Reserved 1
Reserved 2
Magnetic Variation,,,E
Map Projection,Transverse Mercator,PolyCal,No,AutoCalOnly,No,BSBUseWPX,No
Point01,xy, 111, 95,in, deg, 54, 0.0000,N, 62, 0.0000,E, grid, , , ,N
Point02,xy, 1402, 100,in, deg, 54, 0.0000,N, 62, 15.0000,E, grid, , , ,N
Point03,xy, 2692, 104,in, deg, 54, 0.0000,N, 62, 30.0000,E, grid, , , ,N
Point04,xy, 100, 1540,in, deg, 53, 50.0000,N, 62, 0.0000,E, grid, , , ,N
Point05,xy, 1394, 1547,in, deg, 53, 50.0000,N, 62, 15.0000,E, grid, , , ,N
Point06,xy, 2689, 1551,in, deg, 53, 50.0000,N, 62, 30.0000,E, grid, , , ,N
Point07,xy, 88, 2985,in, deg, 53, 40.0000,N, 62, 0.0000,E, grid, , , ,N
Point08,xy, 1388, 2993,in, deg, 53, 40.0000,N, 62, 15.0000,E, grid, , , ,N
Point09,xy, 2688, 2997,in, deg, 53, 40.0000,N, 62, 30.0000,E, grid, , , ,N
Point10,xy, , ,in, deg, , ,N, , ,W, grid, , , ,N
Point11,xy, , ,in, deg, , ,N, , ,W, grid, , , ,N
Point12,xy, , ,in, deg, , ,N, , ,W, grid, , , ,N
Point13,xy, , ,in, deg, , ,N, , ,W, grid, , , ,N
Point14,xy, , ,in, deg, , ,N, , ,W, grid, , , ,N
Point15,xy, , ,in, deg, , ,N, , ,W, grid, , , ,N
Point16,xy, , ,in, deg, , ,N, , ,W, grid, , , ,N
Point17,xy, , ,in, deg, , ,N, , ,W, grid, , , ,N
Point18,xy, , ,in, deg, , ,N, , ,W, grid, , , ,N
Point19,xy, , ,in, deg, , ,N, , ,W, grid, , , ,N
Point20,xy, , ,in, deg, , ,N, , ,W, grid, , , ,N
Point21,xy, , ,in, deg, , ,N, , ,W, grid, , , ,N
Point22,xy, , ,in, deg, , ,N, , ,W, grid, , , ,N
Point23,xy, , ,in, deg, , ,N, , ,W, grid, , , ,N
Point24,xy, , ,in, deg, , ,N, , ,W, grid, , , ,N
Point25,xy, , ,in, deg, , ,N, , ,W, grid, , , ,N
Point26,xy, , ,in, deg, , ,N, , ,W, grid, , , ,N
Point27,xy, , ,in, deg, , ,N, , ,W, grid, , , ,N
Point28,xy, , ,in, deg, , ,N, , ,W, grid, , , ,N
Point29,xy, , ,in, deg, , ,N, , ,W, grid, , , ,N
Point30,xy, , ,in, deg, , ,N, , ,W, grid, , , ,N
Projection Setup, 0.000000000, 63.000000000, 1.000000000, 500000.00, 0.00,,,,,
Map Feature = MF ; Map Comment = MC These follow if they exist
Track File = TF These follow if they exist
Moving Map Parameters = MM? These follow if they exist
MM0,Yes
MMPNUM,4
MMPXY,1,111,95
MMPXY,2,2692,104
MMPXY,3,2688,2997
MMPXY,4,88,2985
MMPLL,1, 62.000000, 54.000000
MMPLL,2, 62.500000, 54.000000
MMPLL,3, 62.500000, 53.666667
MMPLL,4, 62.000000, 53.666667
MM1B,11.997406
MOP,Map Open Position,0,0
IWH,Map Image Width/Height,2786,3084
