OziExplorer Map Data File Version 2.2
100k--n41-058.gif
100k--n41-058.gif
1 ,Map Code,
Pulkovo 1942 (2),WGS 84, 0.0000, 0.0000,WGS 84
Reserved 1
Reserved 2
Magnetic Variation,,,E
Map Projection,Transverse Mercator,PolyCal,No,AutoCalOnly,No,BSBUseWPX,No
Point01,xy, 36, 21,in, deg, 54, 40.0000,N, 64, 30.0000,E, grid, , , ,N
Point02,xy, 1302, 28,in, deg, 54, 40.0000,N, 64, 45.0000,E, grid, , , ,N
Point03,xy, 2572, 22,in, deg, 54, 40.0000,N, 65, 0.0000,E, grid, , , ,N
Point04,xy, 30, 1480,in, deg, 54, 30.0000,N, 64, 30.0000,E, grid, , , ,N
Point05,xy, 1302, 1483,in, deg, 54, 30.0000,N, 64, 45.0000,E, grid, , , ,N
Point06,xy, 2576, 1486,in, deg, 54, 30.0000,N, 65, 0.0000,E, grid, , , ,N
Point07,xy, 22, 2942,in, deg, 54, 20.0000,N, 64, 30.0000,E, grid, , , ,N
Point08,xy, 1300, 2944,in, deg, 54, 20.0000,N, 64, 45.0000,E, grid, , , ,N
Point09,xy, 2581, 2944,in, deg, 54, 20.0000,N, 65, 0.0000,E, grid, , , ,N
Point10,xy, , ,in, deg, , ,N, , ,W, grid, , , ,N
Point11,xy, , ,in, deg, , ,N, , ,W, grid, , , ,N
Point12,xy, , ,in, deg, , ,N, , ,W, grid, , , ,N
Point13,xy, , ,in, deg, , ,N, , ,W, grid, , , ,N
Point14,xy, , ,in, deg, , ,N, , ,W, grid, , , ,N
Point15,xy, , ,in, deg, , ,N, , ,W, grid, , , ,N
Point16,xy, , ,in, deg, , ,N, , ,W, grid, , , ,N
Point17,xy, , ,in, deg, , ,N, , ,W, grid, , , ,N
Point18,xy, , ,in, deg, , ,N, , ,W, grid, , , ,N
Point19,xy, , ,in, deg, , ,N, , ,W, grid, , , ,N
Point20,xy, , ,in, deg, , ,N, , ,W, grid, , , ,N
Point21,xy, , ,in, deg, , ,N, , ,W, grid, , , ,N
Point22,xy, , ,in, deg, , ,N, , ,W, grid, , , ,N
Point23,xy, , ,in, deg, , ,N, , ,W, grid, , , ,N
Point24,xy, , ,in, deg, , ,N, , ,W, grid, , , ,N
Point25,xy, , ,in, deg, , ,N, , ,W, grid, , , ,N
Point26,xy, , ,in, deg, , ,N, , ,W, grid, , , ,N
Point27,xy, , ,in, deg, , ,N, , ,W, grid, , , ,N
Point28,xy, , ,in, deg, , ,N, , ,W, grid, , , ,N
Point29,xy, , ,in, deg, , ,N, , ,W, grid, , , ,N
Point30,xy, , ,in, deg, , ,N, , ,W, grid, , , ,N
Projection Setup, 0.000000000, 63.000000000, 1.000000000, 500000.00, 0.00,,,,,
Map Feature = MF ; Map Comment = MC These follow if they exist
Track File = TF These follow if they exist
Moving Map Parameters = MM? These follow if they exist
MM0,Yes
MMPNUM,4
MMPXY,1,83,95
MMPXY,2,2520,95
MMPXY,3,2520,2865
MMPXY,4,83,2865
MMPLL,1, 64.509486, 54.658279
MMPLL,2, 64.989750, 54.658595
MMPLL,3, 64.988339, 54.342365
MMPLL,4, 64.511770, 54.342024
MM1B,12.711131
MOP,Map Open Position,0,0
IWH,Map Image Width/Height,2603,2960
