OziExplorer Map Data File Version 2.2
100k--n41-048.gif
100k--n41-048.gif
1 ,Map Code,
Pulkovo 1942 (2),WGS 84, 0.0000, 0.0000,WGS 84
Reserved 1
Reserved 2
Magnetic Variation,,,E
Map Projection,Transverse Mercator,PolyCal,No,AutoCalOnly,No,BSBUseWPX,No
Point01,xy, 26, 26,in, deg, 55, 0.0000,N, 65, 30.0000,E, grid, , , ,N
Point02,xy, 1280, 29,in, deg, 55, 0.0000,N, 65, 45.0000,E, grid, , , ,N
Point03,xy, 2542, 26,in, deg, 55, 0.0000,N, 66, 0.0000,E, grid, , , ,N
Point04,xy, 22, 1486,in, deg, 54, 50.0000,N, 65, 30.0000,E, grid, , , ,N
Point05,xy, 1282, 1489,in, deg, 54, 50.0000,N, 65, 45.0000,E, grid, , , ,N
Point06,xy, 2549, 1486,in, deg, 54, 50.0000,N, 66, 0.0000,E, grid, , , ,N
Point07,xy, 17, 2946,in, deg, 54, 40.0000,N, 65, 30.0000,E, grid, , , ,N
Point08,xy, 1286, 2945,in, deg, 54, 40.0000,N, 65, 45.0000,E, grid, , , ,N
Point09,xy, 2556, 2944,in, deg, 54, 40.0000,N, 66, 0.0000,E, grid, , , ,N
Point10,xy, , ,in, deg, , ,N, , ,W, grid, , , ,N
Point11,xy, , ,in, deg, , ,N, , ,W, grid, , , ,N
Point12,xy, , ,in, deg, , ,N, , ,W, grid, , , ,N
Point13,xy, , ,in, deg, , ,N, , ,W, grid, , , ,N
Point14,xy, , ,in, deg, , ,N, , ,W, grid, , , ,N
Point15,xy, , ,in, deg, , ,N, , ,W, grid, , , ,N
Point16,xy, , ,in, deg, , ,N, , ,W, grid, , , ,N
Point17,xy, , ,in, deg, , ,N, , ,W, grid, , , ,N
Point18,xy, , ,in, deg, , ,N, , ,W, grid, , , ,N
Point19,xy, , ,in, deg, , ,N, , ,W, grid, , , ,N
Point20,xy, , ,in, deg, , ,N, , ,W, grid, , , ,N
Point21,xy, , ,in, deg, , ,N, , ,W, grid, , , ,N
Point22,xy, , ,in, deg, , ,N, , ,W, grid, , , ,N
Point23,xy, , ,in, deg, , ,N, , ,W, grid, , , ,N
Point24,xy, , ,in, deg, , ,N, , ,W, grid, , , ,N
Point25,xy, , ,in, deg, , ,N, , ,W, grid, , , ,N
Point26,xy, , ,in, deg, , ,N, , ,W, grid, , , ,N
Point27,xy, , ,in, deg, , ,N, , ,W, grid, , , ,N
Point28,xy, , ,in, deg, , ,N, , ,W, grid, , , ,N
Point29,xy, , ,in, deg, , ,N, , ,W, grid, , , ,N
Point30,xy, , ,in, deg, , ,N, , ,W, grid, , , ,N
Projection Setup, 0.000000000, 63.000000000, 1.000000000, 500000.00, 0.00,,,,,
Map Feature = MF ; Map Comment = MC These follow if they exist
Track File = TF These follow if they exist
Moving Map Parameters = MM? These follow if they exist
MM0,Yes
MMPNUM,4
MMPXY,1,82,95
MMPXY,2,2494,95
MMPXY,3,2494,2873
MMPXY,4,82,2873
MMPLL,1, 65.511521, 54.992254
MMPLL,2, 65.990586, 54.992156
MMPLL,3, 65.988018, 54.674841
MMPLL,4, 65.512698, 54.674895
MM1B,12.703096
MOP,Map Open Position,0,0
IWH,Map Image Width/Height,2576,2968
