OziExplorer Map Data File Version 2.2
100k--n41-007.gif
100k--n41-007.gif
1 ,Map Code,
Pulkovo 1942 (2),WGS 84, 0.0000, 0.0000,WGS 84
Reserved 1
Reserved 2
Magnetic Variation,,,E
Map Projection,Transverse Mercator,PolyCal,No,AutoCalOnly,No,BSBUseWPX,No
Point01,xy, 75, 70,in, deg, 56, 0.0000,N, 63, 0.0000,E, grid, , , ,N
Point02,xy, 1000, 73,in, deg, 56, 0.0000,N, 63, 15.0000,E, grid, , , ,N
Point03,xy, 1924, 71,in, deg, 56, 0.0000,N, 63, 30.0000,E, grid, , , ,N
Point04,xy, 73, 1166,in, deg, 55, 50.0000,N, 63, 0.0000,E, grid, , , ,N
Point05,xy, 1000, 1171,in, deg, 55, 50.0000,N, 63, 15.0000,E, grid, , , ,N
Point06,xy, 1929, 1168,in, deg, 55, 50.0000,N, 63, 30.0000,E, grid, , , ,N
Point07,xy, 71, 2264,in, deg, 55, 40.0000,N, 63, 0.0000,E, grid, , , ,N
Point08,xy, 1002, 2266,in, deg, 55, 40.0000,N, 63, 15.0000,E, grid, , , ,N
Point09,xy, 1934, 2264,in, deg, 55, 40.0000,N, 63, 30.0000,E, grid, , , ,N
Point10,xy, , ,in, deg, , ,N, , ,W, grid, , , ,N
Point11,xy, , ,in, deg, , ,N, , ,W, grid, , , ,N
Point12,xy, , ,in, deg, , ,N, , ,W, grid, , , ,N
Point13,xy, , ,in, deg, , ,N, , ,W, grid, , , ,N
Point14,xy, , ,in, deg, , ,N, , ,W, grid, , , ,N
Point15,xy, , ,in, deg, , ,N, , ,W, grid, , , ,N
Point16,xy, , ,in, deg, , ,N, , ,W, grid, , , ,N
Point17,xy, , ,in, deg, , ,N, , ,W, grid, , , ,N
Point18,xy, , ,in, deg, , ,N, , ,W, grid, , , ,N
Point19,xy, , ,in, deg, , ,N, , ,W, grid, , , ,N
Point20,xy, , ,in, deg, , ,N, , ,W, grid, , , ,N
Point21,xy, , ,in, deg, , ,N, , ,W, grid, , , ,N
Point22,xy, , ,in, deg, , ,N, , ,W, grid, , , ,N
Point23,xy, , ,in, deg, , ,N, , ,W, grid, , , ,N
Point24,xy, , ,in, deg, , ,N, , ,W, grid, , , ,N
Point25,xy, , ,in, deg, , ,N, , ,W, grid, , , ,N
Point26,xy, , ,in, deg, , ,N, , ,W, grid, , , ,N
Point27,xy, , ,in, deg, , ,N, , ,W, grid, , , ,N
Point28,xy, , ,in, deg, , ,N, , ,W, grid, , , ,N
Point29,xy, , ,in, deg, , ,N, , ,W, grid, , , ,N
Point30,xy, , ,in, deg, , ,N, , ,W, grid, , , ,N
Projection Setup, 0.000000000, 63.000000000, 1.000000000, 500000.00, 0.00,,,,,
Map Feature = MF ; Map Comment = MC These follow if they exist
Track File = TF These follow if they exist
Moving Map Parameters = MM? These follow if they exist
MM0,Yes
MMPNUM,4
MMPXY,1,75,70
MMPXY,2,1924,71
MMPXY,3,1934,2264
MMPXY,4,71,2264
MMPLL,1, 63.000000, 56.000000
MMPLL,2, 63.500000, 56.000000
MMPLL,3, 63.500000, 55.666667
MMPLL,4, 63.000000, 55.666667
MM1B,15.839041
MOP,Map Open Position,0,0
IWH,Map Image Width/Height,2000,2336
