OziExplorer Map Data File Version 2.2
200k--n38-19.gif
200k--n38-19.gif
1 ,Map Code,
Pulkovo 1942 (2),WGS 84, 0.0000, 0.0000,WGS 84
Reserved 1
Reserved 2
Magnetic Variation,,,E
Map Projection,Transverse Mercator,PolyCal,No,AutoCalOnly,No,BSBUseWPX,No
Point01,xy, 104, 92,in, deg, 54, 0.0000,N, 42, 0.0000,E, grid, , , ,N
Point02,xy, 1382, 92,in, deg, 54, 0.0000,N, 42, 30.0000,E, grid, , , ,N
Point03,xy, 2658, 85,in, deg, 54, 0.0000,N, 43, 0.0000,E, grid, , , ,N
Point04,xy, 96, 1539,in, deg, 53, 40.0000,N, 42, 0.0000,E, grid, , , ,N
Point05,xy, 1384, 1542,in, deg, 53, 40.0000,N, 42, 30.0000,E, grid, , , ,N
Point06,xy, 2669, 1531,in, deg, 53, 40.0000,N, 43, 0.0000,E, grid, , , ,N
Point07,xy, 89, 2987,in, deg, 53, 20.0000,N, 42, 0.0000,E, grid, , , ,N
Point08,xy, 1383, 2987,in, deg, 53, 20.0000,N, 42, 30.0000,E, grid, , , ,N
Point09,xy, 2682, 2979,in, deg, 53, 20.0000,N, 43, 0.0000,E, grid, , , ,N
Point10,xy, , ,in, deg, , ,N, , ,W, grid, , , ,N
Point11,xy, , ,in, deg, , ,N, , ,W, grid, , , ,N
Point12,xy, , ,in, deg, , ,N, , ,W, grid, , , ,N
Point13,xy, , ,in, deg, , ,N, , ,W, grid, , , ,N
Point14,xy, , ,in, deg, , ,N, , ,W, grid, , , ,N
Point15,xy, , ,in, deg, , ,N, , ,W, grid, , , ,N
Point16,xy, , ,in, deg, , ,N, , ,W, grid, , , ,N
Point17,xy, , ,in, deg, , ,N, , ,W, grid, , , ,N
Point18,xy, , ,in, deg, , ,N, , ,W, grid, , , ,N
Point19,xy, , ,in, deg, , ,N, , ,W, grid, , , ,N
Point20,xy, , ,in, deg, , ,N, , ,W, grid, , , ,N
Point21,xy, , ,in, deg, , ,N, , ,W, grid, , , ,N
Point22,xy, , ,in, deg, , ,N, , ,W, grid, , , ,N
Point23,xy, , ,in, deg, , ,N, , ,W, grid, , , ,N
Point24,xy, , ,in, deg, , ,N, , ,W, grid, , , ,N
Point25,xy, , ,in, deg, , ,N, , ,W, grid, , , ,N
Point26,xy, , ,in, deg, , ,N, , ,W, grid, , , ,N
Point27,xy, , ,in, deg, , ,N, , ,W, grid, , , ,N
Point28,xy, , ,in, deg, , ,N, , ,W, grid, , , ,N
Point29,xy, , ,in, deg, , ,N, , ,W, grid, , , ,N
Point30,xy, , ,in, deg, , ,N, , ,W, grid, , , ,N
Projection Setup, 0.000000000, 45.000000000, 1.000000000, 500000.00, 0.00,,,,,
Map Feature = MF ; Map Comment = MC These follow if they exist
Track File = TF These follow if they exist
Moving Map Parameters = MM? These follow if they exist
MM0,Yes
MMPNUM,4
MMPXY,1,104,92
MMPXY,2,2658,85
MMPXY,3,2682,2979
MMPXY,4,89,2987
MMPLL,1, 42.000000, 54.000000
MMPLL,2, 43.000000, 54.000000
MMPLL,3, 43.000000, 53.333333
MMPLL,4, 42.000000, 53.333333
MM1B,24.049399
MOP,Map Open Position,0,0
IWH,Map Image Width/Height,2744,3077
