OziExplorer Map Data File Version 2.2
200k--n38-13.gif
200k--n38-13.gif
1 ,Map Code,
Pulkovo 1942 (2),WGS 84, 0.0000, 0.0000,WGS 84
Reserved 1
Reserved 2
Magnetic Variation,,,E
Map Projection,Transverse Mercator,PolyCal,No,AutoCalOnly,No,BSBUseWPX,No
Point01,xy, 106, 96,in, deg, 54, 40.0000,N, 42, 0.0000,E, grid, , , ,N
Point02,xy, 1359, 103,in, deg, 54, 40.0000,N, 42, 30.0000,E, grid, , , ,N
Point03,xy, 2615, 98,in, deg, 54, 40.0000,N, 43, 0.0000,E, grid, , , ,N
Point04,xy, 93, 1545,in, deg, 54, 20.0000,N, 42, 0.0000,E, grid, , , ,N
Point05,xy, 1359, 1550,in, deg, 54, 20.0000,N, 42, 30.0000,E, grid, , , ,N
Point06,xy, 2622, 1546,in, deg, 54, 20.0000,N, 43, 0.0000,E, grid, , , ,N
Point07,xy, 80, 2996,in, deg, 54, 0.0000,N, 42, 0.0000,E, grid, , , ,N
Point08,xy, 1357, 3001,in, deg, 54, 0.0000,N, 42, 30.0000,E, grid, , , ,N
Point09,xy, 2632, 2996,in, deg, 54, 0.0000,N, 43, 0.0000,E, grid, , , ,N
Point10,xy, , ,in, deg, , ,N, , ,W, grid, , , ,N
Point11,xy, , ,in, deg, , ,N, , ,W, grid, , , ,N
Point12,xy, , ,in, deg, , ,N, , ,W, grid, , , ,N
Point13,xy, , ,in, deg, , ,N, , ,W, grid, , , ,N
Point14,xy, , ,in, deg, , ,N, , ,W, grid, , , ,N
Point15,xy, , ,in, deg, , ,N, , ,W, grid, , , ,N
Point16,xy, , ,in, deg, , ,N, , ,W, grid, , , ,N
Point17,xy, , ,in, deg, , ,N, , ,W, grid, , , ,N
Point18,xy, , ,in, deg, , ,N, , ,W, grid, , , ,N
Point19,xy, , ,in, deg, , ,N, , ,W, grid, , , ,N
Point20,xy, , ,in, deg, , ,N, , ,W, grid, , , ,N
Point21,xy, , ,in, deg, , ,N, , ,W, grid, , , ,N
Point22,xy, , ,in, deg, , ,N, , ,W, grid, , , ,N
Point23,xy, , ,in, deg, , ,N, , ,W, grid, , , ,N
Point24,xy, , ,in, deg, , ,N, , ,W, grid, , , ,N
Point25,xy, , ,in, deg, , ,N, , ,W, grid, , , ,N
Point26,xy, , ,in, deg, , ,N, , ,W, grid, , , ,N
Point27,xy, , ,in, deg, , ,N, , ,W, grid, , , ,N
Point28,xy, , ,in, deg, , ,N, , ,W, grid, , , ,N
Point29,xy, , ,in, deg, , ,N, , ,W, grid, , , ,N
Point30,xy, , ,in, deg, , ,N, , ,W, grid, , , ,N
Projection Setup, 0.000000000, 45.000000000, 1.000000000, 500000.00, 0.00,,,,,
Map Feature = MF ; Map Comment = MC These follow if they exist
Track File = TF These follow if they exist
Moving Map Parameters = MM? These follow if they exist
MM0,Yes
MMPNUM,4
MMPXY,1,106,96
MMPXY,2,2615,98
MMPXY,3,2632,2996
MMPXY,4,80,2996
MMPLL,1, 42.000000, 54.666667
MMPLL,2, 43.000000, 54.666667
MMPLL,3, 43.000000, 54.000000
MMPLL,4, 42.000000, 54.000000
MM1B,23.886378
MOP,Map Open Position,0,0
IWH,Map Image Width/Height,2680,3098
