OziExplorer Map Data File Version 2.2
200k--n38-04.gif
200k--n38-04.gif
1 ,Map Code,
Pulkovo 1942 (2),WGS 84, 0.0000, 0.0000,WGS 84
Reserved 1
Reserved 2
Magnetic Variation,,,E
Map Projection,Transverse Mercator,PolyCal,No,AutoCalOnly,No,BSBUseWPX,No
Point01,xy, 98, 93,in, deg, 56, 0.0000,N, 45, 0.0000,E, grid, , , ,N
Point02,xy, 1313, 93,in, deg, 56, 0.0000,N, 45, 30.0000,E, grid, , , ,N
Point03,xy, 2526, 88,in, deg, 56, 0.0000,N, 46, 0.0000,E, grid, , , ,N
Point04,xy, 94, 1545,in, deg, 55, 40.0000,N, 45, 0.0000,E, grid, , , ,N
Point05,xy, 1318, 1544,in, deg, 55, 40.0000,N, 45, 30.0000,E, grid, , , ,N
Point06,xy, 2542, 1538,in, deg, 55, 40.0000,N, 46, 0.0000,E, grid, , , ,N
Point07,xy, 89, 2995,in, deg, 55, 20.0000,N, 45, 0.0000,E, grid, , , ,N
Point08,xy, 1322, 2996,in, deg, 55, 20.0000,N, 45, 30.0000,E, grid, , , ,N
Point09,xy, 2557, 2987,in, deg, 55, 20.0000,N, 46, 0.0000,E, grid, , , ,N
Point10,xy, , ,in, deg, , ,N, , ,W, grid, , , ,N
Point11,xy, , ,in, deg, , ,N, , ,W, grid, , , ,N
Point12,xy, , ,in, deg, , ,N, , ,W, grid, , , ,N
Point13,xy, , ,in, deg, , ,N, , ,W, grid, , , ,N
Point14,xy, , ,in, deg, , ,N, , ,W, grid, , , ,N
Point15,xy, , ,in, deg, , ,N, , ,W, grid, , , ,N
Point16,xy, , ,in, deg, , ,N, , ,W, grid, , , ,N
Point17,xy, , ,in, deg, , ,N, , ,W, grid, , , ,N
Point18,xy, , ,in, deg, , ,N, , ,W, grid, , , ,N
Point19,xy, , ,in, deg, , ,N, , ,W, grid, , , ,N
Point20,xy, , ,in, deg, , ,N, , ,W, grid, , , ,N
Point21,xy, , ,in, deg, , ,N, , ,W, grid, , , ,N
Point22,xy, , ,in, deg, , ,N, , ,W, grid, , , ,N
Point23,xy, , ,in, deg, , ,N, , ,W, grid, , , ,N
Point24,xy, , ,in, deg, , ,N, , ,W, grid, , , ,N
Point25,xy, , ,in, deg, , ,N, , ,W, grid, , , ,N
Point26,xy, , ,in, deg, , ,N, , ,W, grid, , , ,N
Point27,xy, , ,in, deg, , ,N, , ,W, grid, , , ,N
Point28,xy, , ,in, deg, , ,N, , ,W, grid, , , ,N
Point29,xy, , ,in, deg, , ,N, , ,W, grid, , , ,N
Point30,xy, , ,in, deg, , ,N, , ,W, grid, , , ,N
Projection Setup, 0.000000000, 45.000000000, 1.000000000, 500000.00, 0.00,,,,,
Map Feature = MF ; Map Comment = MC These follow if they exist
Track File = TF These follow if they exist
Moving Map Parameters = MM? These follow if they exist
MM0,Yes
MMPNUM,4
MMPXY,1,98,93
MMPXY,2,2526,88
MMPXY,3,2557,2987
MMPXY,4,89,2995
MMPLL,1, 45.000000, 56.000000
MMPLL,2, 46.000000, 56.000000
MMPLL,3, 46.000000, 55.333333
MMPLL,4, 45.000000, 55.333333
MM1B,24.010383
MOP,Map Open Position,0,0
IWH,Map Image Width/Height,2644,3082
