OziExplorer Map Data File Version 2.2
200k--n38-01.gif
200k--n38-01.gif
1 ,Map Code,
Pulkovo 1942 (2),WGS 84, 0.0000, 0.0000,WGS 84
Reserved 1
Reserved 2
Magnetic Variation,,,E
Map Projection,Transverse Mercator,PolyCal,No,AutoCalOnly,No,BSBUseWPX,No
Point01,xy, 125, 84,in, deg, 56, 0.0000,N, 42, 0.0000,E, grid, , , ,N
Point02,xy, 1340, 95,in, deg, 56, 0.0000,N, 42, 30.0000,E, grid, , , ,N
Point03,xy, 2552, 97,in, deg, 56, 0.0000,N, 43, 0.0000,E, grid, , , ,N
Point04,xy, 106, 1534,in, deg, 55, 40.0000,N, 42, 0.0000,E, grid, , , ,N
Point05,xy, 1332, 1544,in, deg, 55, 40.0000,N, 42, 30.0000,E, grid, , , ,N
Point06,xy, 2556, 1544,in, deg, 55, 40.0000,N, 43, 0.0000,E, grid, , , ,N
Point07,xy, 88, 2985,in, deg, 55, 20.0000,N, 42, 0.0000,E, grid, , , ,N
Point08,xy, 1324, 2996,in, deg, 55, 20.0000,N, 42, 30.0000,E, grid, , , ,N
Point09,xy, 2559, 2997,in, deg, 55, 20.0000,N, 43, 0.0000,E, grid, , , ,N
Point10,xy, , ,in, deg, , ,N, , ,W, grid, , , ,N
Point11,xy, , ,in, deg, , ,N, , ,W, grid, , , ,N
Point12,xy, , ,in, deg, , ,N, , ,W, grid, , , ,N
Point13,xy, , ,in, deg, , ,N, , ,W, grid, , , ,N
Point14,xy, , ,in, deg, , ,N, , ,W, grid, , , ,N
Point15,xy, , ,in, deg, , ,N, , ,W, grid, , , ,N
Point16,xy, , ,in, deg, , ,N, , ,W, grid, , , ,N
Point17,xy, , ,in, deg, , ,N, , ,W, grid, , , ,N
Point18,xy, , ,in, deg, , ,N, , ,W, grid, , , ,N
Point19,xy, , ,in, deg, , ,N, , ,W, grid, , , ,N
Point20,xy, , ,in, deg, , ,N, , ,W, grid, , , ,N
Point21,xy, , ,in, deg, , ,N, , ,W, grid, , , ,N
Point22,xy, , ,in, deg, , ,N, , ,W, grid, , , ,N
Point23,xy, , ,in, deg, , ,N, , ,W, grid, , , ,N
Point24,xy, , ,in, deg, , ,N, , ,W, grid, , , ,N
Point25,xy, , ,in, deg, , ,N, , ,W, grid, , , ,N
Point26,xy, , ,in, deg, , ,N, , ,W, grid, , , ,N
Point27,xy, , ,in, deg, , ,N, , ,W, grid, , , ,N
Point28,xy, , ,in, deg, , ,N, , ,W, grid, , , ,N
Point29,xy, , ,in, deg, , ,N, , ,W, grid, , , ,N
Point30,xy, , ,in, deg, , ,N, , ,W, grid, , , ,N
Projection Setup, 0.000000000, 45.000000000, 1.000000000, 500000.00, 0.00,,,,,
Map Feature = MF ; Map Comment = MC These follow if they exist
Track File = TF These follow if they exist
Moving Map Parameters = MM? These follow if they exist
MM0,Yes
MMPNUM,4
MMPXY,1,125,84
MMPXY,2,2552,97
MMPXY,3,2559,2997
MMPXY,4,88,2985
MMPLL,1, 42.000000, 56.000000
MMPLL,2, 43.000000, 56.000000
MMPLL,3, 43.000000, 55.333333
MMPLL,4, 42.000000, 55.333333
MM1B,24.010383
MOP,Map Open Position,0,0
IWH,Map Image Width/Height,2644,3082
