OziExplorer Map Data File Version 2.2
100k--n38-143--(1981).gif
100k--n38-143--(1981).gif
1 ,Map Code,
Pulkovo 1942 (2),WGS 84, 0.0000, 0.0000,WGS 84
Reserved 1
Reserved 2
Magnetic Variation,,,E
Map Projection,Transverse Mercator,PolyCal,No,AutoCalOnly,No,BSBUseWPX,No
Point01,xy, 77, 87,in, deg, 52, 20.0000,N, 47, 0.0000,E, grid, , , ,N
Point02,xy, 1414, 93,in, deg, 52, 20.0000,N, 47, 15.0000,E, grid, , , ,N
Point03,xy, 2753, 93,in, deg, 52, 20.0000,N, 47, 30.0000,E, grid, , , ,N
Point04,xy, 73, 1550,in, deg, 52, 10.0000,N, 47, 0.0000,E, grid, , , ,N
Point05,xy, 1416, 1554,in, deg, 52, 10.0000,N, 47, 15.0000,E, grid, , , ,N
Point06,xy, 2761, 1551,in, deg, 52, 10.0000,N, 47, 30.0000,E, grid, , , ,N
Point07,xy, 68, 3007,in, deg, 52, 0.0000,N, 47, 0.0000,E, grid, , , ,N
Point08,xy, 1419, 3012,in, deg, 52, 0.0000,N, 47, 15.0000,E, grid, , , ,N
Point09,xy, 2770, 3010,in, deg, 52, 0.0000,N, 47, 30.0000,E, grid, , , ,N
Point10,xy, , ,in, deg, , ,N, , ,W, grid, , , ,N
Point11,xy, , ,in, deg, , ,N, , ,W, grid, , , ,N
Point12,xy, , ,in, deg, , ,N, , ,W, grid, , , ,N
Point13,xy, , ,in, deg, , ,N, , ,W, grid, , , ,N
Point14,xy, , ,in, deg, , ,N, , ,W, grid, , , ,N
Point15,xy, , ,in, deg, , ,N, , ,W, grid, , , ,N
Point16,xy, , ,in, deg, , ,N, , ,W, grid, , , ,N
Point17,xy, , ,in, deg, , ,N, , ,W, grid, , , ,N
Point18,xy, , ,in, deg, , ,N, , ,W, grid, , , ,N
Point19,xy, , ,in, deg, , ,N, , ,W, grid, , , ,N
Point20,xy, , ,in, deg, , ,N, , ,W, grid, , , ,N
Point21,xy, , ,in, deg, , ,N, , ,W, grid, , , ,N
Point22,xy, , ,in, deg, , ,N, , ,W, grid, , , ,N
Point23,xy, , ,in, deg, , ,N, , ,W, grid, , , ,N
Point24,xy, , ,in, deg, , ,N, , ,W, grid, , , ,N
Point25,xy, , ,in, deg, , ,N, , ,W, grid, , , ,N
Point26,xy, , ,in, deg, , ,N, , ,W, grid, , , ,N
Point27,xy, , ,in, deg, , ,N, , ,W, grid, , , ,N
Point28,xy, , ,in, deg, , ,N, , ,W, grid, , , ,N
Point29,xy, , ,in, deg, , ,N, , ,W, grid, , , ,N
Point30,xy, , ,in, deg, , ,N, , ,W, grid, , , ,N
Projection Setup, 0.000000000, 45.000000000, 1.000000000, 500000.00, 0.00,,,,,
Map Feature = MF ; Map Comment = MC These follow if they exist
Track File = TF These follow if they exist
Moving Map Parameters = MM? These follow if they exist
MM0,Yes
MMPNUM,4
MMPXY,1,92,99
MMPXY,2,2770,99
MMPXY,3,2770,3005
MMPXY,4,92,3005
MMPLL,1, 47.003121, 52.332212
MMPLL,2, 47.502996, 52.332556
MMPLL,3, 47.500320, 52.000696
MMPLL,4, 47.004153, 52.000305
MM1B,12.716430
MOP,Map Open Position,0,0
IWH,Map Image Width/Height,2862,3104
