OziExplorer Map Data File Version 2.2
100k--n38-139.gif
100k--n38-139.gif
1 ,Map Code,
Pulkovo 1942 (2),WGS 84, 0.0000, 0.0000,WGS 84
Reserved 1
Reserved 2
Magnetic Variation,,,E
Map Projection,Transverse Mercator,PolyCal,No,AutoCalOnly,No,BSBUseWPX,No
Point01,xy, 111, 96,in, deg, 52, 20.0000,N, 45, 0.0000,E, grid, , , ,N
Point02,xy, 1450, 101,in, deg, 52, 20.0000,N, 45, 15.0000,E, grid, , , ,N
Point03,xy, 2790, 102,in, deg, 52, 20.0000,N, 45, 30.0000,E, grid, , , ,N
Point04,xy, 103, 1554,in, deg, 52, 10.0000,N, 45, 0.0000,E, grid, , , ,N
Point05,xy, 1446, 1556,in, deg, 52, 10.0000,N, 45, 15.0000,E, grid, , , ,N
Point06,xy, 2790, 1560,in, deg, 52, 10.0000,N, 45, 30.0000,E, grid, , , ,N
Point07,xy, 93, 3016,in, deg, 52, 0.0000,N, 45, 0.0000,E, grid, , , ,N
Point08,xy, 1442, 3020,in, deg, 52, 0.0000,N, 45, 15.0000,E, grid, , , ,N
Point09,xy, 2790, 3022,in, deg, 52, 0.0000,N, 45, 30.0000,E, grid, , , ,N
Point10,xy, , ,in, deg, , ,N, , ,W, grid, , , ,N
Point11,xy, , ,in, deg, , ,N, , ,W, grid, , , ,N
Point12,xy, , ,in, deg, , ,N, , ,W, grid, , , ,N
Point13,xy, , ,in, deg, , ,N, , ,W, grid, , , ,N
Point14,xy, , ,in, deg, , ,N, , ,W, grid, , , ,N
Point15,xy, , ,in, deg, , ,N, , ,W, grid, , , ,N
Point16,xy, , ,in, deg, , ,N, , ,W, grid, , , ,N
Point17,xy, , ,in, deg, , ,N, , ,W, grid, , , ,N
Point18,xy, , ,in, deg, , ,N, , ,W, grid, , , ,N
Point19,xy, , ,in, deg, , ,N, , ,W, grid, , , ,N
Point20,xy, , ,in, deg, , ,N, , ,W, grid, , , ,N
Point21,xy, , ,in, deg, , ,N, , ,W, grid, , , ,N
Point22,xy, , ,in, deg, , ,N, , ,W, grid, , , ,N
Point23,xy, , ,in, deg, , ,N, , ,W, grid, , , ,N
Point24,xy, , ,in, deg, , ,N, , ,W, grid, , , ,N
Point25,xy, , ,in, deg, , ,N, , ,W, grid, , , ,N
Point26,xy, , ,in, deg, , ,N, , ,W, grid, , , ,N
Point27,xy, , ,in, deg, , ,N, , ,W, grid, , , ,N
Point28,xy, , ,in, deg, , ,N, , ,W, grid, , , ,N
Point29,xy, , ,in, deg, , ,N, , ,W, grid, , , ,N
Point30,xy, , ,in, deg, , ,N, , ,W, grid, , , ,N
Projection Setup, 0.000000000, 45.000000000, 1.000000000, 500000.00, 0.00,,,,,
Map Feature = MF ; Map Comment = MC These follow if they exist
Track File = TF These follow if they exist
Moving Map Parameters = MM? These follow if they exist
MM0,Yes
MMPNUM,4
MMPXY,1,92,100
MMPXY,2,2786,100
MMPXY,3,2786,3014
MMPXY,4,92,3014
MMPLL,1, 44.996339, 52.332746
MMPLL,2, 45.499392, 52.333439
MMPLL,3, 45.499142, 52.000757
MMPLL,4, 44.999827, 52.000066
MM1B,12.723884
MOP,Map Open Position,0,0
IWH,Map Image Width/Height,2878,3114
