OziExplorer Map Data File Version 2.2
100k--n38-132.gif
100k--n38-132.gif
1 ,Map Code,
Pulkovo 1942 (2),WGS 84, 0.0000, 0.0000,WGS 84
Reserved 1
Reserved 2
Magnetic Variation,,,E
Map Projection,Transverse Mercator,PolyCal,No,AutoCalOnly,No,BSBUseWPX,No
Point01,xy, 110, 90,in, deg, 52, 40.0000,N, 47, 30.0000,E, grid, , , ,N
Point02,xy, 1440, 89,in, deg, 52, 40.0000,N, 47, 45.0000,E, grid, , , ,N
Point03,xy, 2770, 87,in, deg, 52, 40.0000,N, 48, 0.0000,E, grid, , , ,N
Point04,xy, 104, 1557,in, deg, 52, 30.0000,N, 47, 30.0000,E, grid, , , ,N
Point05,xy, 1438, 1555,in, deg, 52, 30.0000,N, 47, 45.0000,E, grid, , , ,N
Point06,xy, 2774, 1553,in, deg, 52, 30.0000,N, 48, 0.0000,E, grid, , , ,N
Point07,xy, 99, 3015,in, deg, 52, 20.0000,N, 47, 30.0000,E, grid, , , ,N
Point08,xy, 1438, 3020,in, deg, 52, 20.0000,N, 47, 45.0000,E, grid, , , ,N
Point09,xy, 2777, 3017,in, deg, 52, 20.0000,N, 48, 0.0000,E, grid, , , ,N
Point10,xy, , ,in, deg, , ,N, , ,W, grid, , , ,N
Point11,xy, , ,in, deg, , ,N, , ,W, grid, , , ,N
Point12,xy, , ,in, deg, , ,N, , ,W, grid, , , ,N
Point13,xy, , ,in, deg, , ,N, , ,W, grid, , , ,N
Point14,xy, , ,in, deg, , ,N, , ,W, grid, , , ,N
Point15,xy, , ,in, deg, , ,N, , ,W, grid, , , ,N
Point16,xy, , ,in, deg, , ,N, , ,W, grid, , , ,N
Point17,xy, , ,in, deg, , ,N, , ,W, grid, , , ,N
Point18,xy, , ,in, deg, , ,N, , ,W, grid, , , ,N
Point19,xy, , ,in, deg, , ,N, , ,W, grid, , , ,N
Point20,xy, , ,in, deg, , ,N, , ,W, grid, , , ,N
Point21,xy, , ,in, deg, , ,N, , ,W, grid, , , ,N
Point22,xy, , ,in, deg, , ,N, , ,W, grid, , , ,N
Point23,xy, , ,in, deg, , ,N, , ,W, grid, , , ,N
Point24,xy, , ,in, deg, , ,N, , ,W, grid, , , ,N
Point25,xy, , ,in, deg, , ,N, , ,W, grid, , , ,N
Point26,xy, , ,in, deg, , ,N, , ,W, grid, , , ,N
Point27,xy, , ,in, deg, , ,N, , ,W, grid, , , ,N
Point28,xy, , ,in, deg, , ,N, , ,W, grid, , , ,N
Point29,xy, , ,in, deg, , ,N, , ,W, grid, , , ,N
Point30,xy, , ,in, deg, , ,N, , ,W, grid, , , ,N
Projection Setup, 0.000000000, 45.000000000, 1.000000000, 500000.00, 0.00,,,,,
Map Feature = MF ; Map Comment = MC These follow if they exist
Track File = TF These follow if they exist
Moving Map Parameters = MM? These follow if they exist
MM0,Yes
MMPNUM,4
MMPXY,1,92,100
MMPXY,2,2785,100
MMPXY,3,2785,3014
MMPXY,4,92,3014
MMPLL,1, 47.496572, 52.665465
MMPLL,2, 48.002908, 52.665250
MMPLL,3, 48.001382, 52.333614
MMPLL,4, 47.498845, 52.333779
MM1B,12.712058
MOP,Map Open Position,0,0
IWH,Map Image Width/Height,2877,3114
