OziExplorer Map Data File Version 2.2
100k--n38-119.gif
100k--n38-119.gif
1 ,Map Code,
Pulkovo 1942 (2),WGS 84, 0.0000, 0.0000,WGS 84
Reserved 1
Reserved 2
Magnetic Variation,,,E
Map Projection,Transverse Mercator,PolyCal,No,AutoCalOnly,No,BSBUseWPX,No
Point01,xy, 114, 94,in, deg, 53, 0.0000,N, 47, 0.0000,E, grid, , , ,N
Point02,xy, 1432, 98,in, deg, 53, 0.0000,N, 47, 15.0000,E, grid, , , ,N
Point03,xy, 2752, 99,in, deg, 53, 0.0000,N, 47, 30.0000,E, grid, , , ,N
Point04,xy, 107, 1552,in, deg, 52, 50.0000,N, 47, 0.0000,E, grid, , , ,N
Point05,xy, 1431, 1556,in, deg, 52, 50.0000,N, 47, 15.0000,E, grid, , , ,N
Point06,xy, 2755, 1560,in, deg, 52, 50.0000,N, 47, 30.0000,E, grid, , , ,N
Point07,xy, 98, 3018,in, deg, 52, 40.0000,N, 47, 0.0000,E, grid, , , ,N
Point08,xy, 1426, 3022,in, deg, 52, 40.0000,N, 47, 15.0000,E, grid, , , ,N
Point09,xy, 2756, 3020,in, deg, 52, 40.0000,N, 47, 30.0000,E, grid, , , ,N
Point10,xy, , ,in, deg, , ,N, , ,W, grid, , , ,N
Point11,xy, , ,in, deg, , ,N, , ,W, grid, , , ,N
Point12,xy, , ,in, deg, , ,N, , ,W, grid, , , ,N
Point13,xy, , ,in, deg, , ,N, , ,W, grid, , , ,N
Point14,xy, , ,in, deg, , ,N, , ,W, grid, , , ,N
Point15,xy, , ,in, deg, , ,N, , ,W, grid, , , ,N
Point16,xy, , ,in, deg, , ,N, , ,W, grid, , , ,N
Point17,xy, , ,in, deg, , ,N, , ,W, grid, , , ,N
Point18,xy, , ,in, deg, , ,N, , ,W, grid, , , ,N
Point19,xy, , ,in, deg, , ,N, , ,W, grid, , , ,N
Point20,xy, , ,in, deg, , ,N, , ,W, grid, , , ,N
Point21,xy, , ,in, deg, , ,N, , ,W, grid, , , ,N
Point22,xy, , ,in, deg, , ,N, , ,W, grid, , , ,N
Point23,xy, , ,in, deg, , ,N, , ,W, grid, , , ,N
Point24,xy, , ,in, deg, , ,N, , ,W, grid, , , ,N
Point25,xy, , ,in, deg, , ,N, , ,W, grid, , , ,N
Point26,xy, , ,in, deg, , ,N, , ,W, grid, , , ,N
Point27,xy, , ,in, deg, , ,N, , ,W, grid, , , ,N
Point28,xy, , ,in, deg, , ,N, , ,W, grid, , , ,N
Point29,xy, , ,in, deg, , ,N, , ,W, grid, , , ,N
Point30,xy, , ,in, deg, , ,N, , ,W, grid, , , ,N
Projection Setup, 0.000000000, 45.000000000, 1.000000000, 500000.00, 0.00,,,,,
Map Feature = MF ; Map Comment = MC These follow if they exist
Track File = TF These follow if they exist
Moving Map Parameters = MM? These follow if they exist
MM0,Yes
MMPNUM,4
MMPXY,1,91,100
MMPXY,2,2765,100
MMPXY,3,2765,3022
MMPXY,4,91,3022
MMPLL,1, 46.995613, 52.999187
MMPLL,2, 47.502456, 52.999745
MMPLL,3, 47.501659, 52.666550
MMPLL,4, 46.998682, 52.665954
MM1B,12.717365
MOP,Map Open Position,0,0
IWH,Map Image Width/Height,2856,3122
