OziExplorer Map Data File Version 2.2
100k--n38-114.gif
100k--n38-114.gif
1 ,Map Code,
Pulkovo 1942 (2),WGS 84, 0.0000, 0.0000,WGS 84
Reserved 1
Reserved 2
Magnetic Variation,,,E
Map Projection,Transverse Mercator,PolyCal,No,AutoCalOnly,No,BSBUseWPX,No
Point01,xy, 92, 80,in, deg, 53, 0.0000,N, 44, 30.0000,E, grid, , , ,N
Point02,xy, 1569, 106,in, deg, 53, 0.0000,N, 44, 45.0000,E, grid, , , ,N
Point03,xy, 3047, 126,in, deg, 53, 0.0000,N, 45, 0.0000,E, grid, , , ,N
Point04,xy, 64, 1725,in, deg, 52, 50.0000,N, 44, 30.0000,E, grid, , , ,N
Point05,xy, 1546, 1752,in, deg, 52, 50.0000,N, 44, 45.0000,E, grid, , , ,N
Point06,xy, 3030, 1771,in, deg, 52, 50.0000,N, 45, 0.0000,E, grid, , , ,N
Point07,xy, 41, 3375,in, deg, 52, 40.0000,N, 44, 30.0000,E, grid, , , ,N
Point08,xy, 1530, 3398,in, deg, 52, 40.0000,N, 44, 45.0000,E, grid, , , ,N
Point09,xy, 3017, 3413,in, deg, 52, 40.0000,N, 45, 0.0000,E, grid, , , ,N
Point10,xy, , ,in, deg, , ,N, , ,W, grid, , , ,N
Point11,xy, , ,in, deg, , ,N, , ,W, grid, , , ,N
Point12,xy, , ,in, deg, , ,N, , ,W, grid, , , ,N
Point13,xy, , ,in, deg, , ,N, , ,W, grid, , , ,N
Point14,xy, , ,in, deg, , ,N, , ,W, grid, , , ,N
Point15,xy, , ,in, deg, , ,N, , ,W, grid, , , ,N
Point16,xy, , ,in, deg, , ,N, , ,W, grid, , , ,N
Point17,xy, , ,in, deg, , ,N, , ,W, grid, , , ,N
Point18,xy, , ,in, deg, , ,N, , ,W, grid, , , ,N
Point19,xy, , ,in, deg, , ,N, , ,W, grid, , , ,N
Point20,xy, , ,in, deg, , ,N, , ,W, grid, , , ,N
Point21,xy, , ,in, deg, , ,N, , ,W, grid, , , ,N
Point22,xy, , ,in, deg, , ,N, , ,W, grid, , , ,N
Point23,xy, , ,in, deg, , ,N, , ,W, grid, , , ,N
Point24,xy, , ,in, deg, , ,N, , ,W, grid, , , ,N
Point25,xy, , ,in, deg, , ,N, , ,W, grid, , , ,N
Point26,xy, , ,in, deg, , ,N, , ,W, grid, , , ,N
Point27,xy, , ,in, deg, , ,N, , ,W, grid, , , ,N
Point28,xy, , ,in, deg, , ,N, , ,W, grid, , , ,N
Point29,xy, , ,in, deg, , ,N, , ,W, grid, , , ,N
Point30,xy, , ,in, deg, , ,N, , ,W, grid, , , ,N
Projection Setup, 0.000000000, 45.000000000, 1.000000000, 500000.00, 0.00,,,,,
Map Feature = MF ; Map Comment = MC These follow if they exist
Track File = TF These follow if they exist
Moving Map Parameters = MM? These follow if they exist
MM0,Yes
MMPNUM,4
MMPXY,1,92,80
MMPXY,2,3047,126
MMPXY,3,3017,3413
MMPXY,4,41,3375
MMPLL,1, 44.500000, 53.000000
MMPLL,2, 45.000000, 53.000000
MMPLL,3, 45.000000, 52.666667
MMPLL,4, 44.500000, 52.666667
MM1B,10.559361
MOP,Map Open Position,0,0
IWH,Map Image Width/Height,3126,3504
