OziExplorer Map Data File Version 2.2
100k--n38-107--(1986).gif
100k--n38-107--(1986).gif
1 ,Map Code,
Pulkovo 1942 (2),WGS 84, 0.0000, 0.0000,WGS 84
Reserved 1
Reserved 2
Magnetic Variation,,,E
Map Projection,Transverse Mercator,PolyCal,No,AutoCalOnly,No,BSBUseWPX,No
Point01,xy, 123, 95,in, deg, 53, 20.0000,N, 47, 0.0000,E, grid, , , ,N
Point02,xy, 1430, 104,in, deg, 53, 20.0000,N, 47, 15.0000,E, grid, , , ,N
Point03,xy, 2736, 104,in, deg, 53, 20.0000,N, 47, 30.0000,E, grid, , , ,N
Point04,xy, 110, 1546,in, deg, 53, 10.0000,N, 47, 0.0000,E, grid, , , ,N
Point05,xy, 1423, 1554,in, deg, 53, 10.0000,N, 47, 15.0000,E, grid, , , ,N
Point06,xy, 2738, 1554,in, deg, 53, 10.0000,N, 47, 30.0000,E, grid, , , ,N
Point07,xy, 97, 2998,in, deg, 53, 0.0000,N, 47, 0.0000,E, grid, , , ,N
Point08,xy, 1416, 3005,in, deg, 53, 0.0000,N, 47, 15.0000,E, grid, , , ,N
Point09,xy, 2738, 3007,in, deg, 53, 0.0000,N, 47, 30.0000,E, grid, , , ,N
Point10,xy, , ,in, deg, , ,N, , ,W, grid, , , ,N
Point11,xy, , ,in, deg, , ,N, , ,W, grid, , , ,N
Point12,xy, , ,in, deg, , ,N, , ,W, grid, , , ,N
Point13,xy, , ,in, deg, , ,N, , ,W, grid, , , ,N
Point14,xy, , ,in, deg, , ,N, , ,W, grid, , , ,N
Point15,xy, , ,in, deg, , ,N, , ,W, grid, , , ,N
Point16,xy, , ,in, deg, , ,N, , ,W, grid, , , ,N
Point17,xy, , ,in, deg, , ,N, , ,W, grid, , , ,N
Point18,xy, , ,in, deg, , ,N, , ,W, grid, , , ,N
Point19,xy, , ,in, deg, , ,N, , ,W, grid, , , ,N
Point20,xy, , ,in, deg, , ,N, , ,W, grid, , , ,N
Point21,xy, , ,in, deg, , ,N, , ,W, grid, , , ,N
Point22,xy, , ,in, deg, , ,N, , ,W, grid, , , ,N
Point23,xy, , ,in, deg, , ,N, , ,W, grid, , , ,N
Point24,xy, , ,in, deg, , ,N, , ,W, grid, , , ,N
Point25,xy, , ,in, deg, , ,N, , ,W, grid, , , ,N
Point26,xy, , ,in, deg, , ,N, , ,W, grid, , , ,N
Point27,xy, , ,in, deg, , ,N, , ,W, grid, , , ,N
Point28,xy, , ,in, deg, , ,N, , ,W, grid, , , ,N
Point29,xy, , ,in, deg, , ,N, , ,W, grid, , , ,N
Point30,xy, , ,in, deg, , ,N, , ,W, grid, , , ,N
Projection Setup, 0.000000000, 45.000000000, 1.000000000, 500000.00, 0.00,,,,,
Map Feature = MF ; Map Comment = MC These follow if they exist
Track File = TF These follow if they exist
Moving Map Parameters = MM? These follow if they exist
MM0,Yes
MMPNUM,4
MMPXY,1,91,99
MMPXY,2,2745,99
MMPXY,3,2745,3002
MMPXY,4,91,3002
MMPLL,1, 46.994235, 53.332934
MMPLL,2, 47.501269, 53.333928
MMPLL,3, 47.501729, 53.000543
MMPLL,4, 46.998613, 52.999517
MM1B,12.718194
MOP,Map Open Position,0,0
IWH,Map Image Width/Height,2836,3101
