OziExplorer Map Data File Version 2.2
100k--n38-084--(1986).gif
100k--n38-084--(1986).gif
1 ,Map Code,
Pulkovo 1942 (2),WGS 84, 0.0000, 0.0000,WGS 84
Reserved 1
Reserved 2
Magnetic Variation,,,E
Map Projection,Transverse Mercator,PolyCal,No,AutoCalOnly,No,BSBUseWPX,No
Point01,xy, 106, 91,in, deg, 54, 0.0000,N, 47, 30.0000,E, grid, , , ,N
Point02,xy, 1394, 94,in, deg, 54, 0.0000,N, 47, 45.0000,E, grid, , , ,N
Point03,xy, 2682, 91,in, deg, 54, 0.0000,N, 48, 0.0000,E, grid, , , ,N
Point04,xy, 98, 1544,in, deg, 53, 50.0000,N, 47, 30.0000,E, grid, , , ,N
Point05,xy, 1392, 1547,in, deg, 53, 50.0000,N, 47, 45.0000,E, grid, , , ,N
Point06,xy, 2687, 1542,in, deg, 53, 50.0000,N, 48, 0.0000,E, grid, , , ,N
Point07,xy, 89, 2997,in, deg, 53, 40.0000,N, 47, 30.0000,E, grid, , , ,N
Point08,xy, 1392, 3001,in, deg, 53, 40.0000,N, 47, 45.0000,E, grid, , , ,N
Point09,xy, 2692, 2996,in, deg, 53, 40.0000,N, 48, 0.0000,E, grid, , , ,N
Point10,xy, , ,in, deg, , ,N, , ,W, grid, , , ,N
Point11,xy, , ,in, deg, , ,N, , ,W, grid, , , ,N
Point12,xy, , ,in, deg, , ,N, , ,W, grid, , , ,N
Point13,xy, , ,in, deg, , ,N, , ,W, grid, , , ,N
Point14,xy, , ,in, deg, , ,N, , ,W, grid, , , ,N
Point15,xy, , ,in, deg, , ,N, , ,W, grid, , , ,N
Point16,xy, , ,in, deg, , ,N, , ,W, grid, , , ,N
Point17,xy, , ,in, deg, , ,N, , ,W, grid, , , ,N
Point18,xy, , ,in, deg, , ,N, , ,W, grid, , , ,N
Point19,xy, , ,in, deg, , ,N, , ,W, grid, , , ,N
Point20,xy, , ,in, deg, , ,N, , ,W, grid, , , ,N
Point21,xy, , ,in, deg, , ,N, , ,W, grid, , , ,N
Point22,xy, , ,in, deg, , ,N, , ,W, grid, , , ,N
Point23,xy, , ,in, deg, , ,N, , ,W, grid, , , ,N
Point24,xy, , ,in, deg, , ,N, , ,W, grid, , , ,N
Point25,xy, , ,in, deg, , ,N, , ,W, grid, , , ,N
Point26,xy, , ,in, deg, , ,N, , ,W, grid, , , ,N
Point27,xy, , ,in, deg, , ,N, , ,W, grid, , , ,N
Point28,xy, , ,in, deg, , ,N, , ,W, grid, , , ,N
Point29,xy, , ,in, deg, , ,N, , ,W, grid, , , ,N
Point30,xy, , ,in, deg, , ,N, , ,W, grid, , , ,N
Projection Setup, 0.000000000, 45.000000000, 1.000000000, 500000.00, 0.00,,,,,
Map Feature = MF ; Map Comment = MC These follow if they exist
Track File = TF These follow if they exist
Moving Map Parameters = MM? These follow if they exist
MM0,Yes
MMPNUM,4
MMPXY,1,89,99
MMPXY,2,2700,99
MMPXY,3,2700,2989
MMPXY,4,89,2989
MMPLL,1, 47.497018, 53.999148
MMPLL,2, 48.003201, 53.999007
MMPLL,3, 48.001782, 53.667536
MMPLL,4, 47.499583, 53.667631
MM1B,12.703995
MOP,Map Open Position,0,0
IWH,Map Image Width/Height,2789,3088
